BEGIN:VCALENDAR
VERSION:2.0
PRODID:-//ChamberMaster//Event Calendar 2.0//EN
METHOD:PUBLISH
X-PUBLISHED-TTL:P3D
REFRESH-INTERVAL:P3D
CALSCALE:GREGORIAN
BEGIN:VEVENT
DTSTART:20231017T223000Z
DTEND:20231018T000000Z
X-MICROSOFT-CDO-ALLDAYEVENT:FALSE
SUMMARY:Toddler Tuesday
DESCRIPTION:Join us for a special night for toddlers ages 1-5 and their caregivers. $6.50 admission-members are free
X-ALT-DESC;FMTTYPE=text/html:Join us for a special night for toddlers ages 1-5 and their caregivers. $6.50 admission-members are free
LOCATION:Discovery Depot Children's Museum 128 South Chambers Street Galesburg IL\, 61401
UID:e.2125.14022
SEQUENCE:3
DTSTAMP:20260422T122755Z
URL:https://business.macombareachamber.com/events/details/toddler-tuesday-10-17-2023-14022
END:VEVENT

END:VCALENDAR
