BEGIN:VCALENDAR
VERSION:2.0
PRODID:-//ChamberMaster//Event Calendar 2.0//EN
METHOD:PUBLISH
X-PUBLISHED-TTL:P3D
REFRESH-INTERVAL:P3D
CALSCALE:GREGORIAN
BEGIN:VEVENT
DTSTART:20230718T223000Z
DTEND:20230719T000000Z
X-MICROSOFT-CDO-ALLDAYEVENT:FALSE
SUMMARY:Toddler Tuesday
DESCRIPTION:For toddlers ages 1-5 and their caregivers.\n\n5:30-7:00pm. \n\n$6.50 admission\n\nMembers are free
X-ALT-DESC;FMTTYPE=text/html:For toddlers ages 1-5 and their caregivers.<br />\n5:30-7:00pm.&nbsp\;<br />\n$6.50 admission<br />\nMembers are free
LOCATION:Discovery Depot Children's Museum 128 S Chambers St Galesburg il\, 61401
UID:e.2125.13590
SEQUENCE:3
DTSTAMP:20260423T192610Z
URL:https://business.macombareachamber.com/events/details/toddler-tuesday-07-18-2023-13590
END:VEVENT

END:VCALENDAR
