BEGIN:VCALENDAR
VERSION:2.0
PRODID:-//ChamberMaster//Event Calendar 2.0//EN
METHOD:PUBLISH
X-PUBLISHED-TTL:P3D
REFRESH-INTERVAL:P3D
CALSCALE:GREGORIAN
BEGIN:VEVENT
DTSTART:20240917T223000Z
DTEND:20240918T000000Z
X-MICROSOFT-CDO-ALLDAYEVENT:FALSE
SUMMARY:Toddler Plus Tuesday
DESCRIPTION:Toddler Plus Tuesday\n\n\n\nThis program is for toddlers plus their familes and is ofered after hours.  The program is in collaboration with  educators from the  Regional Office of Education #33.  Special deveopmental activities will be available each month. Reduced admission is $6.50.
X-ALT-DESC;FMTTYPE=text/html:Toddler Plus Tuesday<br />\n<br />\nThis program is for toddlers plus their familes and is ofered after hours.&nbsp\; The program is in collaboration with&nbsp\; educators from the&nbsp\; Regional Office of Education #33.&nbsp\; Special deveopmental activities will be available each month. Reduced admission is $6.50.
LOCATION:Discovery Depot Childrens Museum 128 s Chambers Street Galesburg\, IL
UID:e.2125.15936
SEQUENCE:3
DTSTAMP:20260422T061410Z
URL:https://business.macombareachamber.com/events/details/toddler-plus-tuesday-09-17-2024-15936
END:VEVENT

END:VCALENDAR
