BEGIN:VCALENDAR
VERSION:2.0
PRODID:-//ChamberMaster//Event Calendar 2.0//EN
METHOD:PUBLISH
X-PUBLISHED-TTL:P3D
REFRESH-INTERVAL:P3D
CALSCALE:GREGORIAN
BEGIN:VEVENT
DTSTART:20250408T223000Z
DTEND:20250409T000000Z
X-MICROSOFT-CDO-ALLDAYEVENT:FALSE
SUMMARY:Toddler Plus Tuesday
DESCRIPTION:Toddlers Plus Tuesday This program is for toddlers plus their families and is offered after hours. This program is in collaboration with ROE #33 educators. Special developmental activities will be available each month. Reduced admission rate is $6.50. Members are free.
X-ALT-DESC;FMTTYPE=text/html:Toddlers Plus Tuesday This program is for toddlers plus their families and is offered after hours. This program is in collaboration with ROE #33 educators. Special developmental activities will be available each month. Reduced admission rate is $6.50. Members are free.
LOCATION:Discovery Depot Children's Museum 128 S. Chambers Street Galesburg\, IL 61401
UID:e.2125.18778
SEQUENCE:3
DTSTAMP:20260420T113458Z
URL:https://business.macombareachamber.com/events/details/toddler-plus-tuesday-04-08-2025-18778
END:VEVENT

END:VCALENDAR
