BEGIN:VCALENDAR
VERSION:2.0
PRODID:-//ChamberMaster//Event Calendar 2.0//EN
METHOD:PUBLISH
X-PUBLISHED-TTL:P3D
REFRESH-INTERVAL:P3D
CALSCALE:GREGORIAN
BEGIN:VEVENT
DTSTART:20240926T090000Z
DTEND:20240926T110000Z
X-MICROSOFT-CDO-ALLDAYEVENT:FALSE
SUMMARY:Thrifty Thursday
DESCRIPTION:Come enjoy the museum for a reduced rate.\n\n\n\n$6.00 per person/ members are free\n\n\n\nAdvanced tickets required
X-ALT-DESC;FMTTYPE=text/html:Come enjoy the museum for a reduced rate.<br />\n<br />\n$6.00 per person/ members are free<br />\n<br />\nAdvanced tickets required
LOCATION:Discovery Depot Museum 128 S. Chambers Street Galesburg\, IL
UID:e.2125.15961
SEQUENCE:3
DTSTAMP:20260422T075519Z
URL:https://business.macombareachamber.com/events/details/thrifty-thursday-09-26-2024-15961
END:VEVENT

END:VCALENDAR
