BEGIN:VCALENDAR
VERSION:2.0
PRODID:-//ChamberMaster//Event Calendar 2.0//EN
METHOD:PUBLISH
X-PUBLISHED-TTL:P3D
REFRESH-INTERVAL:P3D
CALSCALE:GREGORIAN
BEGIN:VEVENT
DTSTART:20230727T210000Z
DTEND:20230727T230000Z
X-MICROSOFT-CDO-ALLDAYEVENT:FALSE
SUMMARY:Thrifty Thursday
DESCRIPTION:Join us for an evening of reduced admission!\n\n4:00PM-6:00PM\n\n$5.00 for Admission/Members are Free.
X-ALT-DESC;FMTTYPE=text/html:Join us for an evening of reduced admission!<br />\n4:00PM-6:00PM<br />\n$5.00 for Admission/Members are Free.
LOCATION:Discovery Depot Children's Museum 128 S Chambers St Galesburg IL\, 61401
UID:e.2125.13592
SEQUENCE:3
DTSTAMP:20260423T175533Z
URL:https://business.macombareachamber.com/events/details/thrifty-thursday-07-27-2023-13592
END:VEVENT

END:VCALENDAR
