BEGIN:VCALENDAR
VERSION:2.0
PRODID:-//ChamberMaster//Event Calendar 2.0//EN
METHOD:PUBLISH
X-PUBLISHED-TTL:P3D
REFRESH-INTERVAL:P3D
CALSCALE:GREGORIAN
BEGIN:VEVENT
DTSTART:20250529T210000Z
DTEND:20250529T230000Z
X-MICROSOFT-CDO-ALLDAYEVENT:FALSE
SUMMARY:Thrifty Thursday
DESCRIPTION:Join us for an evening of reduced admission! 4:00 p.m.   6:00 p.m. $6.50 for admission/members are free.  Advanced tickets required.
X-ALT-DESC;FMTTYPE=text/html:Join us for an evening of reduced admission! 4:00 p.m. &ndash\; 6:00 p.m. $6.50 for admission/members are free.&nbsp\; Advanced tickets required.
LOCATION:Discovery Depot Children's Museum 128 S. Chambers Street Galesburg\, IL 61401 309-344-8876
UID:e.2125.18863
SEQUENCE:3
DTSTAMP:20260422T104025Z
URL:https://business.macombareachamber.com/events/details/thrifty-thursday-05-29-2025-18863
END:VEVENT

END:VCALENDAR
