BEGIN:VCALENDAR
VERSION:2.0
PRODID:-//ChamberMaster//Event Calendar 2.0//EN
METHOD:PUBLISH
X-PUBLISHED-TTL:P3D
REFRESH-INTERVAL:P3D
CALSCALE:GREGORIAN
BEGIN:VEVENT
DTSTART:20250424T210000Z
DTEND:20250424T230000Z
X-MICROSOFT-CDO-ALLDAYEVENT:FALSE
SUMMARY:Thrifty Thursday
DESCRIPTION:Thrifty Thursday Join us for an evening of reduced admission! 4:00 p.m.   6:00 p.m. $6.00 for admission/members are free. Advanced tickets required.
X-ALT-DESC;FMTTYPE=text/html:Thrifty Thursday Join us for an evening of reduced admission! 4:00 p.m. &ndash\; 6:00 p.m. $6.00 for admission/members are free. Advanced tickets required.
LOCATION:Discovery Depot Children's Museum 128 S. Chambers Street Galesburg\, IL 61401
UID:e.2125.18779
SEQUENCE:3
DTSTAMP:20260420T113149Z
URL:https://business.macombareachamber.com/events/details/thrifty-thursday-04-24-2025-18779
END:VEVENT

END:VCALENDAR
