BEGIN:VCALENDAR
VERSION:2.0
PRODID:-//ChamberMaster//Event Calendar 2.0//EN
METHOD:PUBLISH
X-PUBLISHED-TTL:P3D
REFRESH-INTERVAL:P3D
CALSCALE:GREGORIAN
BEGIN:VEVENT
DTSTART;VALUE=DATE:20230429
DTEND;VALUE=DATE:20230430
TRANSP:TRANSPARENT
X-MICROSOFT-CDO-ALLDAYEVENT:TRUE
SUMMARY:The Saints Art Gallery
DESCRIPTION:Join us for the Saints Art Gallery
X-ALT-DESC;FMTTYPE=text/html:Join us for the Saints Art Gallery
LOCATION:St. Paul School - 322 W. Washington Street\, Macomb
UID:e.2125.13355
SEQUENCE:3
DTSTAMP:20260423T232820Z
URL:https://business.macombareachamber.com/events/details/the-saints-art-gallery-13355
END:VEVENT

END:VCALENDAR
