BEGIN:VCALENDAR
VERSION:2.0
PRODID:-//ChamberMaster//Event Calendar 2.0//EN
METHOD:PUBLISH
X-PUBLISHED-TTL:P3D
REFRESH-INTERVAL:P3D
CALSCALE:GREGORIAN
BEGIN:VEVENT
DTSTART:20220917T190000Z
DTEND:20220917T220000Z
X-MICROSOFT-CDO-ALLDAYEVENT:FALSE
SUMMARY:The Gambler Returns The Ultimate Kenny Rogers Tribute
DESCRIPTION:The Gambler Returns\n\nThe Ultimate Kenny Rogers Tribute\n\nWatch Promo Video\n\n9/17 @ 2pm!\n\n\n\nExperience the music of GRAMMY  Award-winning superstar Kenny Rogers. A musical experience that spans over six decades of hit after hit song! His music is loved throughout the world and connects with generation after generation. Kenny's command of the stage\, heartfelt performances\, gift for storytelling and distinctive voice are all on full display in this honoring recreation of his LIVE performances.\n\n\n\nJoin us as\, award winning country recording artist Alan Turner\, recreates the magic of a night with Kenny in the Ultimate Kenny Rogers Tribute Show\, The Gambler Returns. This full band top production show will take you on a musical journey through the career of an American Icon and Legend that sold over 120 million albums worldwide and racked up some 24 No.1 hits (including "The Gambler\," "Lady\," "Islands In The Stream\," "Lucille\," "She Believes In Me" and so many more). Audiences leave the performance wanting more.
X-ALT-DESC;FMTTYPE=text/html:<p class="font_8" style="margin: 0px\; padding: 0px\; border: 0px\; outline: 0px\; vertical-align: baseline\; background: transparent\; pointer-events: auto\; font-size: 17px\; line-height: 1.5em\; color: rgb(0\, 0\, 0)\; text-align: justify\;"><br />\nThe Gambler Returns<br />\nThe Ultimate Kenny Rogers Tribute<br />\nWatch Promo Video<br />\n9/17 @ 2pm!<br />\n<br />\nExperience the music of GRAMMY&reg\; Award-winning superstar Kenny Rogers. A musical experience that spans over six decades of hit after hit song! His music is loved throughout the world and connects with generation after generation. Kenny&rsquo\;s command of the stage\, heartfelt performances\, gift for storytelling and distinctive voice are all on full display in this honoring recreation of his LIVE performances.<br />\n<br />\nJoin us as\, award winning country recording artist Alan Turner\, recreates the magic of a night with Kenny in the Ultimate Kenny Rogers Tribute Show\, The Gambler Returns. This full band top production show will take you on a musical journey through the career of an American Icon and Legend that sold over 120 million albums worldwide and racked up some 24 No.1 hits (including &ldquo\;The Gambler\,&rdquo\; &ldquo\;Lady\,&rdquo\; &ldquo\;Islands In The Stream\,&rdquo\; &ldquo\;Lucille\,&rdquo\; &ldquo\;She Believes In Me&rdquo\; and so many more). Audiences leave the performance wanting more.</p>\n
LOCATION:1160 Buchanan St\, Carthage\, IL
UID:e.2125.7931
SEQUENCE:3
DTSTAMP:20260423T091609Z
URL:https://business.macombareachamber.com/events/details/the-gambler-returns-the-ultimate-kenny-rogers-tribute-7931
END:VEVENT

END:VCALENDAR
