BEGIN:VCALENDAR
VERSION:2.0
PRODID:-//ChamberMaster//Event Calendar 2.0//EN
METHOD:PUBLISH
X-PUBLISHED-TTL:P3D
REFRESH-INTERVAL:P3D
CALSCALE:GREGORIAN
BEGIN:VEVENT
DTSTART:20230506T003000Z
DTEND:20230506T023000Z
X-MICROSOFT-CDO-ALLDAYEVENT:FALSE
SUMMARY:The Cask of Amontillado
DESCRIPTION:WIU Opera Theatre presents The Cask of Amontillado - An Opera in One Act by Elysia A. Arntzen (a concert version). Dr. Alfonzo Cooper Jr. - Director/Conductor. Denzel Abarquez - Collaborative Pianist
X-ALT-DESC;FMTTYPE=text/html:WIU Opera Theatre presents The Cask of Amontillado - An Opera in One Act by Elysia A. Arntzen (a concert version). Dr. Alfonzo Cooper Jr. - Director/Conductor. Denzel Abarquez - Collaborative Pianist&nbsp\;
LOCATION:Western Illinois University - Macomb Campus COFAC Recital Hall
UID:e.2125.13479
SEQUENCE:3
DTSTAMP:20260423T233209Z
URL:https://business.macombareachamber.com/events/details/the-cask-of-amontillado-13479
END:VEVENT

END:VCALENDAR
