BEGIN:VCALENDAR
VERSION:2.0
PRODID:-//ChamberMaster//Event Calendar 2.0//EN
METHOD:PUBLISH
X-PUBLISHED-TTL:P3D
REFRESH-INTERVAL:P3D
CALSCALE:GREGORIAN
BEGIN:VEVENT
DTSTART;VALUE=DATE:20230921
DTEND;VALUE=DATE:20230922
TRANSP:TRANSPARENT
X-MICROSOFT-CDO-ALLDAYEVENT:TRUE
SUMMARY:The 36th Annual Mary Olive Woods Lecture in Philosophy and Religious Studies
DESCRIPTION:The 36th Annual Mary Olive Woods Lecture in Philosophy and Religious Studies featuring Steven Nadler with the University of Wisconsin-Madison presenting Why Was Spinoza Excommunicated. \n\n\n\nThis lecture is presented by the Department for Race\, Religion\, Gender\, and Multidisciplinary Studies\; the Department of Mathematics and Philosophy\; and the Mary Oive Woods Foundation.
X-ALT-DESC;FMTTYPE=text/html:The 36th Annual Mary Olive Woods Lecture in Philosophy and Religious Studies featuring Steven Nadler with the University of Wisconsin-Madison presenting Why Was Spinoza Excommunicated.&nbsp\;<br />\n<br />\nThis lecture is presented by the Department for Race\, Religion\, Gender\, and Multidisciplinary Studies\; the Department of Mathematics and Philosophy\; and the Mary Oive Woods Foundation.&nbsp\;
LOCATION:WIU University Union Grand Ballroom
UID:e.2125.13704
SEQUENCE:3
DTSTAMP:20260422T154016Z
URL:https://business.macombareachamber.com/events/details/the-36th-annual-mary-olive-woods-lecture-in-philosophy-and-religious-studies-13704
END:VEVENT

END:VCALENDAR
