BEGIN:VCALENDAR
VERSION:2.0
PRODID:-//ChamberMaster//Event Calendar 2.0//EN
METHOD:PUBLISH
X-PUBLISHED-TTL:P3D
REFRESH-INTERVAL:P3D
CALSCALE:GREGORIAN
BEGIN:VEVENT
DTSTART:20220916T000000Z
DTEND:20220916T013000Z
X-MICROSOFT-CDO-ALLDAYEVENT:FALSE
SUMMARY:The 35th Annual Mary Olive Woods Lecture
DESCRIPTION:Dr. Edward E. Curtis IV will deliver the 35th Annual Mary Olive Woods Lecture\, "Muslims of the Heartland: How Syrian Immigrants Made a Home in the American Midwest." Dr. Curtis is Professor of Religious Studies\, William M. and Gail M. Plater Chair of the Liberal Arts\, and Adjunct Professor of American Studies and Africana Studies at Indiana University-Purdue University Indianapolis (IUPUI). The lecture is at 7 pm on September 15\, 2022\, in the Heritage Room at the WIU University Union. Free and open to the public\, the lecture is sponsored by the WIU Departments of Liberal Arts and Sciences\, Mathematics and Philosophy\, and the Mary Olive Woods Trust.\n\nThe descendant of the first Arab American immigrants to Southern Illinois\, Professor Curtis has authored fourteen books on Muslim American\, African American\, and Arab American history and life\, among them Arab Indianapolis\; The Call of Bilal: Islam in the African Diaspora\; Muslims in America: A Short History\; and Islam in Black America: Identity\, Liberation\, and Difference in African-American Islamic Thought. Dr. Curtis is a graduate of the University of South Africa (DLitt et Phil)\, Washington University in St. Louis (MA)\, and Kenyon College (BA). His academic interests include Arab American studies\, Islamic studies\, Africana religions\, and US history. He is co-founder of the Journal of Africana Religions.\n\nProfessor Curtis has served as a summer director for National Endowment of the Humanities seminars\, and received fellowships from Fulbright\, Luce\, Carnegie\, NEH\, the American Academy of Religion\, and Andrew Mellon. He is currently directing the Arab Indianapolis community history project.
X-ALT-DESC;FMTTYPE=text/html:<div style="color:rgb(34\, 34\, 34)\;font-family:Arial\, Helvetica\, sans-serif\;font-size:small\;">&nbsp\;</div>\n\n<div style="color:rgb(34\, 34\, 34)\;font-family:Arial\, Helvetica\, sans-serif\;font-size:small\;">&nbsp\;</div>\n\n<div style="color:rgb(34\, 34\, 34)\;font-family:Arial\, Helvetica\, sans-serif\;font-size:small\;"><span style="font-size:12pt\;">Dr.&nbsp\;Edward&nbsp\;E.&nbsp\;Curtis&nbsp\;IV will deliver the 35<sup>th</sup>&nbsp\;Annual Mary Olive Woods Lecture\,&nbsp\;<strong>&ldquo\;Muslims of the Heartland: How Syrian Immigrants Made a Home in the American Midwest.&rdquo\;</strong>&nbsp\;Dr.&nbsp\;Curtis&nbsp\;is Professor of Religious Studies\, William M. and Gail M. Plater Chair of the Liberal Arts\, and Adjunct Professor of American Studies and Africana Studies at Indiana University-Purdue University Indianapolis (IUPUI). The lecture is at 7 pm on September 15\, 2022\, in the Heritage Room at the WIU University Union. Free and open to the public\, the lecture is sponsored by the WIU Departments of Liberal Arts and Sciences\, Mathematics and Philosophy\, and the Mary Olive Woods Trust.</span><br />\n<span style="font-size:12pt\;">The descendant of the first Arab American immigrants to Southern Illinois\, Professor&nbsp\;Curtis&nbsp\;has authored fourteen books on Muslim American\, African American\, and Arab American history and life\, among them&nbsp\;<em>Arab Indianapolis\; The Call of Bilal: Islam in the African Diaspora\; Muslims in America: A Short History\;&nbsp\;</em>and&nbsp\;<em>Islam in Black America: Identity\, Liberation\, and Difference in African-American Islamic Thought.&nbsp\;</em>Dr.&nbsp\;Curtis&nbsp\;is a graduate of the University of South Africa (DLitt et Phil)\, Washington University in St. Louis (MA)\, and Kenyon College (BA). His academic interests include Arab American studies\, Islamic studies\, Africana religions\, and US history. He is co-founder of the&nbsp\;<em>Journal of Africana Religions.</em></span><br />\n<span style="font-size:12pt\;">Professor&nbsp\;Curtis&nbsp\;has served as a summer director for National Endowment of the Humanities seminars\, and received fellowships from Fulbright\, Luce\, Carnegie\, NEH\, the American Academy of Religion\, and Andrew Mellon. He is currently directing the Arab Indianapolis community history project.&nbsp\;</span></div>\n
LOCATION:Heritage Room\, University Union - Western Illinois University - Macomb
UID:e.2125.8452
SEQUENCE:3
DTSTAMP:20260423T103246Z
URL:https://business.macombareachamber.com/events/details/the-35th-annual-mary-olive-woods-lecture-8452
END:VEVENT

END:VCALENDAR
