BEGIN:VCALENDAR
VERSION:2.0
PRODID:-//ChamberMaster//Event Calendar 2.0//EN
METHOD:PUBLISH
X-PUBLISHED-TTL:P3D
REFRESH-INTERVAL:P3D
CALSCALE:GREGORIAN
BEGIN:VEVENT
DTSTART:20241127T170000Z
DTEND:20241127T190000Z
X-MICROSOFT-CDO-ALLDAYEVENT:FALSE
SUMMARY:Thanksgiving Dinner
DESCRIPTION:Thanksgiving dinner is all about gathering with each other\, sharing delicious food\, and reflecting on what we're grateful for. From the golden-brown turkey to the buttery mashed potatoes and the fragrant pumpkin pie\, every dish tells a story and creates lasting memories. Don't forget the little things that make the meal special like a warm welcome at the door and laughter around the table. We look forward to making memories with you!
X-ALT-DESC;FMTTYPE=text/html:Thanksgiving dinner is all about gathering with each other\, sharing delicious food\, and reflecting on what we&#39\;re grateful for. From the golden-brown turkey to the buttery mashed potatoes and the fragrant pumpkin pie\, every dish tells a story and creates lasting memories. Don&#39\;t forget the little things that make the meal special&mdash\;like a warm welcome at the door and laughter around the table. We look forward to making memories with you!
LOCATION:Grand Prairie of Macomb 1307 Meadowlark Lane Macomb\, IL
UID:e.2125.16151
SEQUENCE:3
DTSTAMP:20260422T074554Z
URL:https://business.macombareachamber.com/events/details/thanksgiving-dinner-16151
END:VEVENT

END:VCALENDAR
