BEGIN:VCALENDAR
VERSION:2.0
PRODID:-//ChamberMaster//Event Calendar 2.0//EN
METHOD:PUBLISH
X-PUBLISHED-TTL:P3D
REFRESH-INTERVAL:P3D
CALSCALE:GREGORIAN
BEGIN:VEVENT
DTSTART:20230616T220000Z
DTEND:20230617T010000Z
X-MICROSOFT-CDO-ALLDAYEVENT:FALSE
SUMMARY:Taylor Swift Eras Tour
DESCRIPTION:Calling all Swifties! Get ready for an\n\nunforgettable night of magic at our Taylor Swift Eras Tour at The Crafty Coop   \n\n   Join us for an evening filled with creativity\, music\, themed snacks and endless love for the one and only Taylor Swift!   \n\n   Decorate pottery using exclusive silkscreens featuring iconic lyrics and images from Taylor or let your artistic side shine and create your own design   \n\n   And what's a Taylor Swift theme night without some amazing photo opps? Strike a pose and make memories in our photo booth\, capture and share the\n\nperfect Instagram-worthy shots!   \n\n   Of course\, we'll be providing the perfect soundtrack for the night\, playing all your favorite Taylor Swift hits to keep you singing and dancing along!   \n\n    Mark your calendars and join us June 16th 5-8 PM  \n\nDon't forget to invite your fellow Swiftie friends to share in the joy and make this a night to remember! Get your tickets now and secure your spot at the most epic Taylor Swift-themed event in town!  \n\nTickets are $10 each and include your studio fee. Non-refundable if you are unable to attend but can be transferred to a friend/family member.\n\nPay for pottery the night of the event\, pottery ranges in price from $8-$25.\n\nCall or message the studio with questions\, 309-331-0965
X-ALT-DESC;FMTTYPE=text/html:&#127926\;&#127775\; Calling all Swifties! Get ready for an<br />\nunforgettable night of magic at our Taylor Swift Eras Tour at The Crafty Coop &#127912\;&#128396\;<br />\n&#127912\;&#10024\; Join us for an evening filled with creativity\, music\, themed snacks and endless love for the one and only Taylor Swift! &#10024\;&#127925\;<br />\n&#127800\;&#10024\; Decorate pottery using exclusive silkscreens featuring iconic lyrics and images from Taylor or let your artistic side shine and create your own design &#127800\;&#127926\;<br />\n&#127926\;&#128248\; And what&#39\;s a Taylor Swift theme night without some amazing photo opps? Strike a pose and make memories in our photo booth\, capture and share the<br />\nperfect Instagram-worthy shots! &#128248\;&#10024\;<br />\n&#127908\;&#127775\; Of course\, we&#39\;ll be providing the perfect soundtrack for the night\, playing all your favorite Taylor Swift hits to keep you singing and dancing along! &#127775\;&#127908\;<br />\n&#128467\;&#65039\;&#127769\; Mark your calendars and join us June 16th 5-8 PM&#127903\;&#65039\;<br />\nDon&#39\;t forget to invite your fellow Swiftie friends to share in the joy and make this a night to remember! Get your tickets now and secure your spot at the most epic Taylor Swift-themed event in town! &#127752\;<br />\nTickets are $10 each and include your studio fee. Non-refundable if you are unable to attend but can be transferred to a friend/family member.<br />\nPay for pottery the night of the event\, pottery ranges in price from $8-$25.<br />\nCall or message the studio with questions\, 309-331-0965&nbsp\;<br />\n&nbsp\;
LOCATION:The Crafty Coop - 206 N. Lafayette\, Macomb
UID:e.2125.13567
SEQUENCE:3
DTSTAMP:20260423T220559Z
URL:https://business.macombareachamber.com/events/details/taylor-swift-eras-tour-13567
END:VEVENT

END:VCALENDAR
