BEGIN:VCALENDAR
VERSION:2.0
PRODID:-//ChamberMaster//Event Calendar 2.0//EN
METHOD:PUBLISH
X-PUBLISHED-TTL:P3D
REFRESH-INTERVAL:P3D
CALSCALE:GREGORIAN
BEGIN:VEVENT
DTSTART:20230504T213000Z
DTEND:20230504T230000Z
X-MICROSOFT-CDO-ALLDAYEVENT:FALSE
SUMMARY:Tatiana Ward - New Beginnings
DESCRIPTION:WIU senior art major Tatiana Ward will have her solo exhibition\, "New Beginnings"\, on display April 25 through May 12\, 2023 at the Western Illinois University Art Gallery. Ward is the recipient of the 2023 Mavigliano/Brabec Senior Art Prize. A reception for the artist will be held Thursday\, May 4 from 4:30-6:00 p.m. The artist will speak about her work at 5:00. Admission is free and open to the public.
X-ALT-DESC;FMTTYPE=text/html:WIU senior art major Tatiana Ward will have her solo exhibition\, &quot\;New Beginnings&quot\;\, on display April 25 through May 12\, 2023 at the Western Illinois University Art Gallery. Ward is the recipient of the 2023 Mavigliano/Brabec Senior Art Prize. A reception for the artist will be held Thursday\, May 4 from 4:30-6:00 p.m. The artist will speak about her work at 5:00. Admission is free and open to the public.
LOCATION:Western Illinois University Art Gallery
UID:e.2125.13375
SEQUENCE:3
DTSTAMP:20260423T233112Z
URL:https://business.macombareachamber.com/events/details/tatiana-ward-new-beginnings-13375
END:VEVENT

END:VCALENDAR
