BEGIN:VCALENDAR
VERSION:2.0
PRODID:-//ChamberMaster//Event Calendar 2.0//EN
METHOD:PUBLISH
X-PUBLISHED-TTL:P3D
REFRESH-INTERVAL:P3D
CALSCALE:GREGORIAN
BEGIN:VEVENT
DTSTART;VALUE=DATE:20231026
DTEND;VALUE=DATE:20231027
TRANSP:TRANSPARENT
X-MICROSOFT-CDO-ALLDAYEVENT:TRUE
SUMMARY:Take Back the Night: emPOWER commUNITY
DESCRIPTION:Save the Date\n\n  No matter how we dress\, no matter where we go\, yes means yes and no means no!\n\n  Join WIRC-Victim Services and the @WIU Multicultural Center for the annual Take Back the Night March and Rally at Sherman Hall\, WIU\, Macomb\, on Thursday\, October 26\, 2023.
X-ALT-DESC;FMTTYPE=text/html:<div class="xdj266r x11i5rnm xat24cr x1mh8g0r x1vvkbs x126k92a" style="margin: 0px\; white-space-collapse: preserve\; overflow-wrap: break-word\; font-family: &quot\;Segoe UI Historic&quot\;\, &quot\;Segoe UI&quot\;\, Helvetica\, Arial\, sans-serif\; color: rgb(5\, 5\, 5)\; font-size: 15px\; background-color: rgb(255\, 255\, 255)\;">\n<div dir="auto" style="font-family: inherit\;">Save the Date<br />\n&#128156\; No matter how we dress\, no matter where we go\, yes means yes and no means no!<br />\n&#128156\; Join WIRC-Victim Services and the @WIU Multicultural Center for the annual Take Back the Night March and Rally at Sherman Hall\, WIU\, Macomb\, on Thursday\, October 26\, 2023.</div>\n</div>\n
LOCATION:
UID:e.2125.14082
SEQUENCE:3
DTSTAMP:20260422T121327Z
URL:https://business.macombareachamber.com/events/details/take-back-the-night-empower-community-14082
END:VEVENT

END:VCALENDAR
