BEGIN:VCALENDAR
VERSION:2.0
PRODID:-//ChamberMaster//Event Calendar 2.0//EN
METHOD:PUBLISH
X-PUBLISHED-TTL:P3D
REFRESH-INTERVAL:P3D
CALSCALE:GREGORIAN
BEGIN:VEVENT
DTSTART;VALUE=DATE:20220725
DTEND;VALUE=DATE:20220728
TRANSP:TRANSPARENT
X-MICROSOFT-CDO-ALLDAYEVENT:TRUE
SUMMARY:Sweet Corn Sale
DESCRIPTION:Macomb Wesley United Methodist Church Sweet Corn Sale. July 25-27. For updates check macombwesleyumc.com. (309) 833-2153. \n\n\n\nPurchase your corn at Wesley United Methodist Church - 1212 W. Calhoun St\, Macomb. North Side. 8 am-1 pm\n\nOR\n\nWesley Village - 1200 East Grant Street. 3-6 pm. \n\nAll proceeds go to mission projects.
X-ALT-DESC;FMTTYPE=text/html:Macomb Wesley United Methodist Church Sweet Corn Sale. July 25-27. For updates check macombwesleyumc.com. (309) 833-2153.&nbsp\;<br />\n<br />\nPurchase your corn at Wesley United Methodist Church - 1212 W. Calhoun St\, Macomb. North Side. 8 am-1 pm<br />\nOR<br />\nWesley Village - 1200 East Grant Street. 3-6 pm.&nbsp\;<br />\nAll proceeds go to mission projects.&nbsp\;
LOCATION:
UID:e.2125.9932
SEQUENCE:3
DTSTAMP:20260422T120015Z
URL:https://business.macombareachamber.com/events/details/sweet-corn-sale-9932
END:VEVENT

END:VCALENDAR
