BEGIN:VCALENDAR
VERSION:2.0
PRODID:-//ChamberMaster//Event Calendar 2.0//EN
METHOD:PUBLISH
X-PUBLISHED-TTL:P3D
REFRESH-INTERVAL:P3D
CALSCALE:GREGORIAN
BEGIN:VEVENT
DTSTART:20220726T153000Z
DTEND:20220728T170000Z
X-MICROSOFT-CDO-ALLDAYEVENT:FALSE
SUMMARY:Surviving the Wild\, Wild West!
DESCRIPTION:Pan for gold\, learn cowboy knots and try a lasso. Create a filter for drinking water and other survival skills!\n\nAges 6 and up\n\n3 Day Camp\n\n$45 for Members/$50 for Non-Members\n\nRegister in person or online at www.discoverydepot.org
X-ALT-DESC;FMTTYPE=text/html:Pan for gold\, learn cowboy knots and try a lasso. Create a filter for drinking water and other survival skills!<br />\nAges 6 and up<br />\n3 Day Camp<br />\n$45 for Members/$50 for Non-Members<br />\nRegister in person or online at www.discoverydepot.org
LOCATION:Discovery Depot Children's Museum 128 S Chambers St Galesburg\, IL\, 61401
UID:e.2125.8443
SEQUENCE:3
DTSTAMP:20260422T120226Z
URL:https://business.macombareachamber.com/events/details/surviving-the-wild-wild-west-8443
END:VEVENT

END:VCALENDAR
