BEGIN:VCALENDAR
VERSION:2.0
PRODID:-//ChamberMaster//Event Calendar 2.0//EN
METHOD:PUBLISH
X-PUBLISHED-TTL:P3D
REFRESH-INTERVAL:P3D
CALSCALE:GREGORIAN
BEGIN:VEVENT
DTSTART:20220705T223000Z
DTEND:20220706T013000Z
X-MICROSOFT-CDO-ALLDAYEVENT:FALSE
SUMMARY:Sunflower Couples Painting Party
DESCRIPTION:Come paint two 12 x 12" square partial sunflowers per person (4 per couple) to be hung together in a square that make one large 24 x 24" wall hanging when all 4 are placed together. This is a really fun one to do! Cost is $59 per couple for painting only. (Less than $30 each for two canvas per person)
X-ALT-DESC;FMTTYPE=text/html:<span style="color: rgb(5\, 5\, 5)\; font-family: &quot\;Segoe UI Historic&quot\;\, &quot\;Segoe UI&quot\;\, Helvetica\, Arial\, sans-serif\; font-size: 15px\;">Come paint two 12 x 12&rdquo\; square partial sunflowers per person (4 per couple) to be hung together in a square that make one large 24 x 24&rdquo\; wall hanging when all 4 are placed together. This is a really fun one to do! Cost is $59 per couple for painting only. (Less than $30 each for two canvas per person)</span>
LOCATION:206 N Lafayette St\, Macomb\, IL 61455
UID:e.2125.9745
SEQUENCE:3
DTSTAMP:20260422T120535Z
URL:https://business.macombareachamber.com/events/details/sunflower-couples-painting-party-9745
END:VEVENT

END:VCALENDAR
