BEGIN:VCALENDAR
VERSION:2.0
PRODID:-//ChamberMaster//Event Calendar 2.0//EN
METHOD:PUBLISH
X-PUBLISHED-TTL:P3D
REFRESH-INTERVAL:P3D
CALSCALE:GREGORIAN
BEGIN:VEVENT
DTSTART:20230701T000000Z
DTEND:20230701T020000Z
X-MICROSOFT-CDO-ALLDAYEVENT:FALSE
SUMMARY:Summer Teen Pool Party
DESCRIPTION:Glenwood presents Summer Teen Pool Party. Music. Contests. Prizes. Food.
X-ALT-DESC;FMTTYPE=text/html:Glenwood presents Summer Teen Pool Party. Music. Contests. Prizes. Food.&nbsp\;
LOCATION:Glenwood Pool 1400 Glenwood Park Rd. Macomb\, IL 61455
UID:e.2125.13570
SEQUENCE:3
DTSTAMP:20260423T192707Z
URL:https://business.macombareachamber.com/events/details/summer-teen-pool-party-13570
END:VEVENT

END:VCALENDAR
