BEGIN:VCALENDAR
VERSION:2.0
PRODID:-//ChamberMaster//Event Calendar 2.0//EN
METHOD:PUBLISH
X-PUBLISHED-TTL:P3D
REFRESH-INTERVAL:P3D
CALSCALE:GREGORIAN
BEGIN:VEVENT
DTSTART;VALUE=DATE:20230605
DTEND;VALUE=DATE:20230606
TRANSP:TRANSPARENT
X-MICROSOFT-CDO-ALLDAYEVENT:TRUE
SUMMARY:Summer Speech Clinic
DESCRIPTION:Summer Speech Clinic. Starts June 5. Ends July 11.
X-ALT-DESC;FMTTYPE=text/html:Summer Speech Clinic. Starts June 5. Ends July 11.&nbsp\;
LOCATION:Western Illinois University - Macomb Campus Memorial Hall\, 2nd Floor
UID:e.2125.13037
SEQUENCE:3
DTSTAMP:20260423T192144Z
URL:https://business.macombareachamber.com/events/details/summer-speech-clinic-13037
END:VEVENT

END:VCALENDAR
