BEGIN:VCALENDAR
VERSION:2.0
PRODID:-//ChamberMaster//Event Calendar 2.0//EN
METHOD:PUBLISH
X-PUBLISHED-TTL:P3D
REFRESH-INTERVAL:P3D
CALSCALE:GREGORIAN
BEGIN:VEVENT
DTSTART:20240710T150000Z
DTEND:20240710T170000Z
X-MICROSOFT-CDO-ALLDAYEVENT:FALSE
SUMMARY:Summer Family Flicks Series
DESCRIPTION:It's Summer Family Flicks Week!\n\nJoin us Wednesdays and Thursdays at 10am for a FREE family movie from now until August 8th!\n\nLearn more at https://vipcinemas.com/summerflicks
X-ALT-DESC;FMTTYPE=text/html:<div dir="auto" style="font-family: &quot\;Segoe UI Historic&quot\;\, &quot\;Segoe UI&quot\;\, Helvetica\, Arial\, sans-serif\; color: rgb(5\, 5\, 5)\; font-size: 15px\; white-space-collapse: preserve\; background-color: rgb(255\, 255\, 255)\;">It&#39\;s Summer Family Flicks Week!<br />\nJoin us Wednesdays and Thursdays at 10am for a FREE family movie from now until August 8th!<br />\nLearn more at https://vipcinemas.com/summerflicks</div>\n
LOCATION:VIP Rialto Cinemas 1405 East Jackson St Macomb\, IL
UID:e.2125.15126
SEQUENCE:3
DTSTAMP:20260423T011939Z
URL:https://business.macombareachamber.com/events/details/summer-family-flicks-series-07-10-2024-15126
END:VEVENT

END:VCALENDAR
