BEGIN:VCALENDAR
VERSION:2.0
PRODID:-//ChamberMaster//Event Calendar 2.0//EN
METHOD:PUBLISH
X-PUBLISHED-TTL:P3D
REFRESH-INTERVAL:P3D
CALSCALE:GREGORIAN
BEGIN:VEVENT
DTSTART:20230701T190000Z
DTEND:20230701T230000Z
X-MICROSOFT-CDO-ALLDAYEVENT:FALSE
SUMMARY:Summer Block Party
DESCRIPTION:Summer Block Party. Games\, inflatables\, food\, and more.
X-ALT-DESC;FMTTYPE=text/html:Summer Block Party. Games\, inflatables\, food\, and more.&nbsp\;
LOCATION:Turning Point Church 1315 Maple Avenue Macomb\, IL
UID:e.2125.13586
SEQUENCE:3
DTSTAMP:20260423T191423Z
URL:https://business.macombareachamber.com/events/details/summer-block-party-13586
END:VEVENT

END:VCALENDAR
