BEGIN:VCALENDAR
VERSION:2.0
PRODID:-//ChamberMaster//Event Calendar 2.0//EN
METHOD:PUBLISH
X-PUBLISHED-TTL:P3D
REFRESH-INTERVAL:P3D
CALSCALE:GREGORIAN
BEGIN:VEVENT
DTSTART:20220723T150000Z
DTEND:20220723T170000Z
X-MICROSOFT-CDO-ALLDAYEVENT:FALSE
SUMMARY:Summer Arts in the Park
DESCRIPTION:Summer Arts in the Park began Saturday\, July 9 and will continue every Saturday through July 30. Parents - enjoy the Farmer's Market while your kids enjoy the arts!). In case of rain or extreme heat\, programs scheduled for Chandler Park will be held at the Macomb Arts Center - 25 E. Side Square. This program is open to kids in 1-6th grade. Email info@macombartscenter.org for more information and to register. Pre-registration is strongly encouraged to allow us to have sufficient materials for all). Payment is $5/program\, financial assistance available.\n\n\n\nProgram schedule will be July 16: Painting with Waterguns\n\nJuly 23: Breaking the Rules with Boomwhackers\n\nJuly 30: Bring your Story to Life
X-ALT-DESC;FMTTYPE=text/html:Summer Arts in the Park began Saturday\, July 9 and will continue every Saturday through July 30. Parents - enjoy the Farmer&#39\;s Market while your kids enjoy the arts!). In case of rain or extreme heat\, programs scheduled for Chandler Park will be held at the Macomb Arts Center - 25 E. Side Square. This program is open to kids in 1-6th grade. Email info@macombartscenter.org for more information and to register. Pre-registration is strongly encouraged to allow us to have sufficient materials for all). Payment is $5/program\, financial assistance available.<br />\n<br />\nProgram schedule will be July 16: Painting with Waterguns<br />\nJuly 23: Breaking the Rules with Boomwhackers<br />\nJuly 30: Bring your Story to Life
LOCATION:
UID:e.2125.9909
SEQUENCE:3
DTSTAMP:20260422T120159Z
URL:https://business.macombareachamber.com/events/details/summer-arts-in-the-park-9909
END:VEVENT

END:VCALENDAR
