BEGIN:VCALENDAR
VERSION:2.0
PRODID:-//ChamberMaster//Event Calendar 2.0//EN
METHOD:PUBLISH
X-PUBLISHED-TTL:P3D
REFRESH-INTERVAL:P3D
CALSCALE:GREGORIAN
BEGIN:VEVENT
DTSTART:20240916T150000Z
DTEND:20240916T170000Z
X-MICROSOFT-CDO-ALLDAYEVENT:FALSE
SUMMARY:Suicide Prevention Webinar - Resources for Workplaces
DESCRIPTION:Illinois Partnership for Safety (IPS) Webinar \n\nSAVE THE DATE \n\nSeptember Suicide Prevention Webinar Series \n\nBackground \n\nThroughout September\, the Illinois Department of Public Health will host a series of webinars to provide resources and support for various communities. Please share with your networks and join as many sessions as you can. \n\nFeatured webinars \n\nResources for Schools   Students\, educators\, parents   \n\nDate: September 11\, 10 a.m.   12 p.m. \n\nPresenters include Erika's Lighthouse\, Jared's Keepers\, and the American Foundation for Suicide Prevention \n\nResources for Workplaces   \n\nDate: September 16\, 10 a.m.   12 p.m. \n\nPresenters include Farm Family Initiative\, the American Foundation for Suicide Prevention \n\nResources for families/support circles   \n\nDate: September 12\, 10 a.m.  12 p.m. \n\nPresenters include Erika's Lighthouse\, Find Your Anchor\, and American Foundation for Suicide Prevention \n\nFaith and Suicide Prevention   \n\nDate: September 17\, 2 p.m.   4 p.m. \n\nPresenters include Soul Shop\, Soul Survivors of Chicago \n\nSuicide Prevention and Veterans   \n\nDate: September 10\, 10 a.m.   12 p.m. 2 p.m.   4 p.m. \n\nPresenters include Suicide Prevention administrators from various Veteran's Affairs health centers\, Illinois Joining Forces\, and Governor's Challenger to prevent suicide among service members\, Veterans\, and their families. \n\nSuicide Prevention and Individuals with developmental delays and intellectual disabilities   \n\nDate: September 26\, 10 a.m.   12 p.m. \n\nPresenters include LifeLong Access \n\nOther information: \n\n  Registration is not required.  At the time of the webinar\, go to https://illinois.webex.com/meet/ISPA to. (A meeting invitation will be sent to IPS members). \n\n  If you have questions or comments\, contact Jill McCamant\, Suicide Prevention coordinator\, Illinois Department of Public Health\, Jill.McCamant@illinois.gov\, or Neva Wright\, Suicide Prevention graduate intern\, Illinois Department of Public Health\, Geneva.Wright@illinois.gov. \n\nThis webinar is made available by the State Injury Prevention Project through funding from grant number  NU17CE010045 from the U.S. Centers for Disease Control and Prevention (CDC). The views\, policies\, and opinions  expressed are those of the authors and do not necessarily reflect those of CDC.
X-ALT-DESC;FMTTYPE=text/html:<p dir="ltr" style="line-height:1.2\;text-align: center\;margin-top:0pt\;margin-bottom:0pt\;"><span id="docs-internal-guid-31fa85aa-7fff-3c60-0bff-f688eaaf3ab1"><span style="font-size: 18pt\; font-family: Calibri\, sans-serif\; font-weight: 700\; font-variant-numeric: normal\; font-variant-east-asian: normal\; font-variant-alternates: normal\; font-variant-position: normal\; vertical-align: baseline\; white-space-collapse: preserve\;">Illinois Partnership for Safety (IPS) Webinar&nbsp\;</span></span></p>\n\n<p dir="ltr" style="line-height:1.2\;text-align: center\;margin-top:0.83404541015625pt\;margin-bottom:0pt\;"><span id="docs-internal-guid-31fa85aa-7fff-3c60-0bff-f688eaaf3ab1"><span style="font-size: 19.98pt\; font-family: Calibri\, sans-serif\; color: rgb(31\, 73\, 124)\; font-weight: 700\; font-variant-numeric: normal\; font-variant-east-asian: normal\; font-variant-alternates: normal\; font-variant-position: normal\; vertical-align: baseline\; white-space-collapse: preserve\;">SAVE THE DATE&nbsp\;</span></span></p>\n\n<p dir="ltr" style="line-height:1.2\;text-align: center\;margin-top:1.1029052734375pt\;margin-bottom:0pt\;"><span id="docs-internal-guid-31fa85aa-7fff-3c60-0bff-f688eaaf3ab1"><span style="font-size: 19.98pt\; font-family: Calibri\, sans-serif\; color: rgb(31\, 73\, 124)\; font-weight: 700\; font-variant-numeric: normal\; font-variant-east-asian: normal\; font-variant-alternates: normal\; font-variant-position: normal\; vertical-align: baseline\; white-space-collapse: preserve\;">September Suicide Prevention Webinar Series&nbsp\;</span></span></p>\n\n<p dir="ltr" style="line-height:1.2\;margin-left: 6.716459274291992pt\;margin-top:13.58380126953125pt\;margin-bottom:0pt\;"><span id="docs-internal-guid-31fa85aa-7fff-3c60-0bff-f688eaaf3ab1"><span style="font-size: 10.98pt\; font-family: Calibri\, sans-serif\; color: rgb(31\, 73\, 124)\; font-weight: 700\; font-style: italic\; font-variant-numeric: normal\; font-variant-east-asian: normal\; font-variant-alternates: normal\; font-variant-position: normal\; vertical-align: baseline\; white-space-collapse: preserve\;">Background&nbsp\;</span></span></p>\n\n<p dir="ltr" style="line-height:1.223512029647827\;margin-left: 24.496858596801758pt\;margin-right: 17.13739013671875pt\;text-indent: -0.412841796875pt\;margin-top:5.06634521484375pt\;margin-bottom:0pt\;padding:0pt 0pt 0pt 0.412841796875pt\;"><span id="docs-internal-guid-31fa85aa-7fff-3c60-0bff-f688eaaf3ab1"><span style="font-size: 10.98pt\; font-family: Calibri\, sans-serif\; font-variant-numeric: normal\; font-variant-east-asian: normal\; font-variant-alternates: normal\; font-variant-position: normal\; vertical-align: baseline\; white-space-collapse: preserve\;">Throughout September\, the Illinois Department of Public Health will host a series of webinars to provide resources and support for various communities. Please share with your networks and join as many sessions as you can.&nbsp\;</span></span></p>\n\n<p dir="ltr" style="line-height:1.2\;margin-left: 6.693975448608398pt\;margin-top:10.43115234375pt\;margin-bottom:0pt\;"><span id="docs-internal-guid-31fa85aa-7fff-3c60-0bff-f688eaaf3ab1"><span style="font-size: 10.98pt\; font-family: Calibri\, sans-serif\; color: rgb(31\, 73\, 124)\; font-weight: 700\; font-style: italic\; font-variant-numeric: normal\; font-variant-east-asian: normal\; font-variant-alternates: normal\; font-variant-position: normal\; vertical-align: baseline\; white-space-collapse: preserve\;">Featured webinars&nbsp\;</span></span></p>\n\n<p dir="ltr" style="line-height:1.2\;margin-right: 163.33648681640625pt\;text-align: right\;margin-top:19.04693603515625pt\;margin-bottom:0pt\;"><span id="docs-internal-guid-31fa85aa-7fff-3c60-0bff-f688eaaf3ab1"><span style="font-size: 10.02pt\; font-family: Calibri\, sans-serif\; font-weight: 700\; font-style: italic\; font-variant-numeric: normal\; font-variant-east-asian: normal\; font-variant-alternates: normal\; font-variant-position: normal\; vertical-align: baseline\; white-space-collapse: preserve\;">Resources for Schools &ndash\; Students\, educators\, parents&nbsp\;&nbsp\;&nbsp\;</span></span></p>\n\n<p dir="ltr" style="line-height:1.2\;text-align: center\;margin-top:0.48699951171875pt\;margin-bottom:0pt\;"><span id="docs-internal-guid-31fa85aa-7fff-3c60-0bff-f688eaaf3ab1"><span style="font-size: 10.02pt\; font-family: Calibri\, sans-serif\; font-variant-numeric: normal\; font-variant-east-asian: normal\; font-variant-alternates: normal\; font-variant-position: normal\; vertical-align: baseline\; white-space-collapse: preserve\;">Date: September 11\, 10 a.m.&nbsp\;&#8208\;&nbsp\;12 p.m.&nbsp\;</span></span></p>\n\n<p dir="ltr" style="line-height:1.2\;text-align: center\;margin-top:0.547088623046875pt\;margin-bottom:0pt\;"><span id="docs-internal-guid-31fa85aa-7fff-3c60-0bff-f688eaaf3ab1"><span style="font-size: 10.02pt\; font-family: Calibri\, sans-serif\; font-variant-numeric: normal\; font-variant-east-asian: normal\; font-variant-alternates: normal\; font-variant-position: normal\; vertical-align: baseline\; white-space-collapse: preserve\;">Presenters include Erika&rsquo\;s Lighthouse\, Jared&rsquo\;s Keepers\, and the American Foundation for Suicide Prevention&nbsp\;</span></span></p>\n\n<p dir="ltr" style="line-height:1.2\;margin-right: 218.5987548828125pt\;text-align: right\;margin-top:12.7274169921875pt\;margin-bottom:0pt\;"><span id="docs-internal-guid-31fa85aa-7fff-3c60-0bff-f688eaaf3ab1"><span style="font-size: 10.02pt\; font-family: Calibri\, sans-serif\; font-weight: 700\; font-style: italic\; font-variant-numeric: normal\; font-variant-east-asian: normal\; font-variant-alternates: normal\; font-variant-position: normal\; vertical-align: baseline\; white-space-collapse: preserve\;">Resources for Workplaces</span><span style="font-size: 10.02pt\; font-family: Calibri\, sans-serif\; font-variant-numeric: normal\; font-variant-east-asian: normal\; font-variant-alternates: normal\; font-variant-position: normal\; vertical-align: baseline\; white-space-collapse: preserve\;">&nbsp\;&nbsp\;&nbsp\;</span></span></p>\n\n<p dir="ltr" style="line-height:1.2\;text-align: center\;margin-top:0.48699951171875pt\;margin-bottom:0pt\;"><span id="docs-internal-guid-31fa85aa-7fff-3c60-0bff-f688eaaf3ab1"><span style="font-size: 10.02pt\; font-family: Calibri\, sans-serif\; font-variant-numeric: normal\; font-variant-east-asian: normal\; font-variant-alternates: normal\; font-variant-position: normal\; vertical-align: baseline\; white-space-collapse: preserve\;">Date: September 16\, 10 a.m.&nbsp\;&#8208\;&nbsp\;12 p.m.&nbsp\;</span></span></p>\n\n<p dir="ltr" style="line-height:1.2\;text-align: center\;margin-top:0.547088623046875pt\;margin-bottom:0pt\;"><span id="docs-internal-guid-31fa85aa-7fff-3c60-0bff-f688eaaf3ab1"><span style="font-size: 10.02pt\; font-family: Calibri\, sans-serif\; font-variant-numeric: normal\; font-variant-east-asian: normal\; font-variant-alternates: normal\; font-variant-position: normal\; vertical-align: baseline\; white-space-collapse: preserve\;">Presenters include Farm Family Initiative\, the American Foundation for Suicide Prevention&nbsp\;</span></span></p>\n\n<p dir="ltr" style="line-height:1.2\;margin-right: 194.53631591796875pt\;text-align: right\;margin-top:12.72442626953125pt\;margin-bottom:0pt\;"><span id="docs-internal-guid-31fa85aa-7fff-3c60-0bff-f688eaaf3ab1"><span style="font-size: 10.02pt\; font-family: Calibri\, sans-serif\; font-weight: 700\; font-style: italic\; font-variant-numeric: normal\; font-variant-east-asian: normal\; font-variant-alternates: normal\; font-variant-position: normal\; vertical-align: baseline\; white-space-collapse: preserve\;">Resources for families/support circles</span><span style="font-size: 10.02pt\; font-family: Calibri\, sans-serif\; font-variant-numeric: normal\; font-variant-east-asian: normal\; font-variant-alternates: normal\; font-variant-position: normal\; vertical-align: baseline\; white-space-collapse: preserve\;">&nbsp\;&nbsp\;&nbsp\;</span></span></p>\n\n<p dir="ltr" style="line-height:1.2\;text-align: center\;margin-top:0.4835205078125pt\;margin-bottom:0pt\;"><span id="docs-internal-guid-31fa85aa-7fff-3c60-0bff-f688eaaf3ab1"><span style="font-size: 10.02pt\; font-family: Calibri\, sans-serif\; font-variant-numeric: normal\; font-variant-east-asian: normal\; font-variant-alternates: normal\; font-variant-position: normal\; vertical-align: baseline\; white-space-collapse: preserve\;">Date: September 12\, 10 a.m.&nbsp\;&#8208\;12 p.m.&nbsp\;</span></span></p>\n\n<p dir="ltr" style="line-height:1.2\;text-align: center\;margin-top:0.547088623046875pt\;margin-bottom:0pt\;"><span id="docs-internal-guid-31fa85aa-7fff-3c60-0bff-f688eaaf3ab1"><span style="font-size: 10.02pt\; font-family: Calibri\, sans-serif\; font-variant-numeric: normal\; font-variant-east-asian: normal\; font-variant-alternates: normal\; font-variant-position: normal\; vertical-align: baseline\; white-space-collapse: preserve\;">Presenters include Erika&rsquo\;s Lighthouse\, Find Your Anchor\, and American Foundation for Suicide Prevention&nbsp\;</span></span></p>\n\n<p dir="ltr" style="line-height:1.2\;margin-right: 212.955078125pt\;text-align: right\;margin-top:12.66729736328125pt\;margin-bottom:0pt\;"><span id="docs-internal-guid-31fa85aa-7fff-3c60-0bff-f688eaaf3ab1"><span style="font-size: 10.02pt\; font-family: Calibri\, sans-serif\; font-weight: 700\; font-style: italic\; font-variant-numeric: normal\; font-variant-east-asian: normal\; font-variant-alternates: normal\; font-variant-position: normal\; vertical-align: baseline\; white-space-collapse: preserve\;">Faith and Suicide Prevention</span><span style="font-size: 10.02pt\; font-family: Calibri\, sans-serif\; font-variant-numeric: normal\; font-variant-east-asian: normal\; font-variant-alternates: normal\; font-variant-position: normal\; vertical-align: baseline\; white-space-collapse: preserve\;">&nbsp\;&nbsp\;&nbsp\;</span></span></p>\n\n<p dir="ltr" style="line-height:1.2\;text-align: center\;margin-top:0.547119140625pt\;margin-bottom:0pt\;"><span id="docs-internal-guid-31fa85aa-7fff-3c60-0bff-f688eaaf3ab1"><span style="font-size: 10.02pt\; font-family: Calibri\, sans-serif\; font-variant-numeric: normal\; font-variant-east-asian: normal\; font-variant-alternates: normal\; font-variant-position: normal\; vertical-align: baseline\; white-space-collapse: preserve\;">Date: September 17\, 2 p.m.&nbsp\;&#8208\;&nbsp\;4 p.m.&nbsp\;</span></span></p>\n\n<p dir="ltr" style="line-height:1.2\;text-align: center\;margin-top:0.486968994140625pt\;margin-bottom:0pt\;"><span id="docs-internal-guid-31fa85aa-7fff-3c60-0bff-f688eaaf3ab1"><span style="font-size: 10.02pt\; font-family: Calibri\, sans-serif\; font-variant-numeric: normal\; font-variant-east-asian: normal\; font-variant-alternates: normal\; font-variant-position: normal\; vertical-align: baseline\; white-space-collapse: preserve\;">Presenters include Soul Shop\, Soul Survivors of Chicago&nbsp\;</span></span></p>\n\n<p dir="ltr" style="line-height:1.2\;margin-right: 204.91705322265625pt\;text-align: right\;margin-top:12.7274169921875pt\;margin-bottom:0pt\;"><span id="docs-internal-guid-31fa85aa-7fff-3c60-0bff-f688eaaf3ab1"><span style="font-size: 10.02pt\; font-family: Calibri\, sans-serif\; font-weight: 700\; font-style: italic\; font-variant-numeric: normal\; font-variant-east-asian: normal\; font-variant-alternates: normal\; font-variant-position: normal\; vertical-align: baseline\; white-space-collapse: preserve\;">Suicide Prevention and Veterans</span><span style="font-size: 10.02pt\; font-family: Calibri\, sans-serif\; font-variant-numeric: normal\; font-variant-east-asian: normal\; font-variant-alternates: normal\; font-variant-position: normal\; vertical-align: baseline\; white-space-collapse: preserve\;">&nbsp\;&nbsp\;&nbsp\;</span></span></p>\n\n<p dir="ltr" style="line-height:1.2\;text-align: center\;margin-top:0.543792724609375pt\;margin-bottom:0pt\;"><span id="docs-internal-guid-31fa85aa-7fff-3c60-0bff-f688eaaf3ab1"><span style="font-size: 10.02pt\; font-family: Calibri\, sans-serif\; font-variant-numeric: normal\; font-variant-east-asian: normal\; font-variant-alternates: normal\; font-variant-position: normal\; vertical-align: baseline\; white-space-collapse: preserve\;">Date: September 10\, 10 a.m.&nbsp\;&#8208\;&nbsp\;12 p.m. 2 p.m.&nbsp\;&#8208\;&nbsp\;4 p.m.&nbsp\;</span></span></p>\n\n<p dir="ltr" style="line-height:1.2180607795715332\;margin-left: 61.4674072265625pt\;margin-right: 61.66387939453125pt\;text-align: center\;margin-top:0.483123779296875pt\;margin-bottom:0pt\;"><span id="docs-internal-guid-31fa85aa-7fff-3c60-0bff-f688eaaf3ab1"><span style="font-size: 10.02pt\; font-family: Calibri\, sans-serif\; font-variant-numeric: normal\; font-variant-east-asian: normal\; font-variant-alternates: normal\; font-variant-position: normal\; vertical-align: baseline\; white-space-collapse: preserve\;">Presenters include Suicide Prevention administrators from various Veteran&rsquo\;s Affairs health centers\, Illinois Joining Forces\, and Governor&rsquo\;s Challenger to prevent suicide among service members\, Veterans</span><span style="font-size: 10.02pt\; font-family: Calibri\, sans-serif\; color: rgb(0\, 120\, 212)\; font-variant-numeric: normal\; font-variant-east-asian: normal\; font-variant-alternates: normal\; font-variant-position: normal\; text-decoration-line: underline\; text-decoration-skip-ink: none\; vertical-align: baseline\; white-space-collapse: preserve\;">\, </span><span style="font-size: 10.02pt\; font-family: Calibri\, sans-serif\; font-variant-numeric: normal\; font-variant-east-asian: normal\; font-variant-alternates: normal\; font-variant-position: normal\; vertical-align: baseline\; white-space-collapse: preserve\;">and their families.&nbsp\;</span></span></p>\n\n<p dir="ltr" style="line-height:1.2\;margin-right: 86.29736328125pt\;text-align: right\;margin-top:12.57659912109375pt\;margin-bottom:0pt\;"><span id="docs-internal-guid-31fa85aa-7fff-3c60-0bff-f688eaaf3ab1"><span style="font-size: 10.02pt\; font-family: Calibri\, sans-serif\; font-weight: 700\; font-variant-numeric: normal\; font-variant-east-asian: normal\; font-variant-alternates: normal\; font-variant-position: normal\; vertical-align: baseline\; white-space-collapse: preserve\;">Suicide Prevention and Individuals with developmental delays and intellectual disabilities&nbsp\;&nbsp\;&nbsp\;</span></span></p>\n\n<p dir="ltr" style="line-height:1.2\;text-align: center\;margin-top:0.547088623046875pt\;margin-bottom:0pt\;"><span id="docs-internal-guid-31fa85aa-7fff-3c60-0bff-f688eaaf3ab1"><span style="font-size: 10.02pt\; font-family: Calibri\, sans-serif\; font-variant-numeric: normal\; font-variant-east-asian: normal\; font-variant-alternates: normal\; font-variant-position: normal\; vertical-align: baseline\; white-space-collapse: preserve\;">Date: September 26\, 10 a.m. &ndash\; 12 p.m.&nbsp\;</span></span></p>\n\n<p dir="ltr" style="line-height:1.2\;text-align: center\;margin-top:4.9854583740234375pt\;margin-bottom:0pt\;"><span id="docs-internal-guid-31fa85aa-7fff-3c60-0bff-f688eaaf3ab1"><span style="font-size: 10.02pt\; font-family: Calibri\, sans-serif\; font-variant-numeric: normal\; font-variant-east-asian: normal\; font-variant-alternates: normal\; font-variant-position: normal\; vertical-align: baseline\; white-space-collapse: preserve\;">Presenters include LifeLong Access&nbsp\;</span></span></p>\n\n<p dir="ltr" style="line-height:1.2\;margin-left: 6.925081253051758pt\;margin-top:12.786666870117188pt\;margin-bottom:0pt\;"><span id="docs-internal-guid-31fa85aa-7fff-3c60-0bff-f688eaaf3ab1"><span style="font-size: 10.98pt\; font-family: Calibri\, sans-serif\; color: rgb(31\, 73\, 124)\; font-weight: 700\; font-style: italic\; font-variant-numeric: normal\; font-variant-east-asian: normal\; font-variant-alternates: normal\; font-variant-position: normal\; vertical-align: baseline\; white-space-collapse: preserve\;">Other information:&nbsp\;</span></span></p>\n\n<p dir="ltr" style="line-height:1.2235560894012452\;margin-left: 20.49095916748047pt\;margin-right: 40.0936279296875pt\;text-indent: -18.252540588378906pt\;margin-top:5.6663360595703125pt\;margin-bottom:0pt\;padding:0pt 0pt 0pt 18.252540588378906pt\;"><span id="docs-internal-guid-31fa85aa-7fff-3c60-0bff-f688eaaf3ab1"><span style="font-size: 10.98pt\; font-family: &quot\;Noto Sans Symbols&quot\;\, sans-serif\; font-variant-numeric: normal\; font-variant-east-asian: normal\; font-variant-alternates: normal\; font-variant-position: normal\; vertical-align: baseline\; white-space-collapse: preserve\;">&#8729\; </span><span style="font-size: 10.98pt\; font-family: Calibri\, sans-serif\; font-variant-numeric: normal\; font-variant-east-asian: normal\; font-variant-alternates: normal\; font-variant-position: normal\; vertical-align: baseline\; white-space-collapse: preserve\;">Registration is not required.&nbsp\;&nbsp\;At the time of the webinar\, go to </span><span style="font-size: 10.98pt\; font-family: Calibri\, sans-serif\; color: rgb(0\, 0\, 255)\; font-variant-numeric: normal\; font-variant-east-asian: normal\; font-variant-alternates: normal\; font-variant-position: normal\; text-decoration-line: underline\; text-decoration-skip-ink: none\; vertical-align: baseline\; white-space-collapse: preserve\;">https://illinois.webex.com/meet/ISPA </span><span style="font-size: 10.98pt\; font-family: Calibri\, sans-serif\; font-variant-numeric: normal\; font-variant-east-asian: normal\; font-variant-alternates: normal\; font-variant-position: normal\; vertical-align: baseline\; white-space-collapse: preserve\;">to. (A meeting invitation will be sent to IPS members).&nbsp\;</span></span></p>\n\n<p dir="ltr" style="line-height:1.2235659599304198\;margin-left: 20.489253997802734pt\;margin-right: 17.63134765625pt\;text-indent: -17.905155181884766pt\;margin-top:0.9505462646484375pt\;margin-bottom:0pt\;padding:0pt 0pt 0pt 17.905155181884766pt\;"><span id="docs-internal-guid-31fa85aa-7fff-3c60-0bff-f688eaaf3ab1"><span style="font-size: 10.98pt\; font-family: &quot\;Noto Sans Symbols&quot\;\, sans-serif\; font-variant-numeric: normal\; font-variant-east-asian: normal\; font-variant-alternates: normal\; font-variant-position: normal\; vertical-align: baseline\; white-space-collapse: preserve\;">&#8729\; </span><span style="font-size: 10.98pt\; font-family: Calibri\, sans-serif\; font-variant-numeric: normal\; font-variant-east-asian: normal\; font-variant-alternates: normal\; font-variant-position: normal\; vertical-align: baseline\; white-space-collapse: preserve\;">If you have questions or comments\, contact Jill McCamant\, Suicide Prevention coordinator\, Illinois Department of Public Health\, </span><span style="font-size: 10.98pt\; font-family: Calibri\, sans-serif\; color: rgb(0\, 0\, 255)\; font-variant-numeric: normal\; font-variant-east-asian: normal\; font-variant-alternates: normal\; font-variant-position: normal\; text-decoration-line: underline\; text-decoration-skip-ink: none\; vertical-align: baseline\; white-space-collapse: preserve\;">Jill.McCamant@illinois.gov</span><span style="font-size: 10.98pt\; font-family: Calibri\, sans-serif\; font-variant-numeric: normal\; font-variant-east-asian: normal\; font-variant-alternates: normal\; font-variant-position: normal\; vertical-align: baseline\; white-space-collapse: preserve\;">\, or Neva Wright\, Suicide Prevention graduate intern\, Illinois Department of Public Health\, </span><span style="font-size: 10.98pt\; font-family: Calibri\, sans-serif\; color: rgb(0\, 0\, 255)\; font-variant-numeric: normal\; font-variant-east-asian: normal\; font-variant-alternates: normal\; font-variant-position: normal\; text-decoration-line: underline\; text-decoration-skip-ink: none\; vertical-align: baseline\; white-space-collapse: preserve\;">Geneva.Wright@illinois.gov</span><span style="font-size: 10.98pt\; font-family: Calibri\, sans-serif\; font-variant-numeric: normal\; font-variant-east-asian: normal\; font-variant-alternates: normal\; font-variant-position: normal\; vertical-align: baseline\; white-space-collapse: preserve\;">.&nbsp\;</span></span></p>\n\n<p dir="ltr" style="line-height:1.3856460571289062\;margin-left: 9.250978469848633pt\;margin-right: 27.72332763671875pt\;text-indent: 0.7615203857421875pt\;margin-top:9.410720825195312pt\;margin-bottom:0pt\;"><span id="docs-internal-guid-31fa85aa-7fff-3c60-0bff-f688eaaf3ab1"><span style="font-size: 10.02pt\; font-family: Arial\, sans-serif\; font-style: italic\; font-variant-numeric: normal\; font-variant-east-asian: normal\; font-variant-alternates: normal\; font-variant-position: normal\; vertical-align: baseline\; white-space-collapse: preserve\;">This webinar is made available by the State Injury Prevention Project through funding from grant number&nbsp\; NU17CE010045 from the U.S. Centers for Disease Control and Prevention (CDC). The views\, policies\, and opinions&nbsp\; expressed are those of the authors and do not necessarily reflect those of CDC. </span></span></p>\n\n<div>&nbsp\;</div>\n
LOCATION:
UID:e.2125.15696
SEQUENCE:3
DTSTAMP:20260422T075417Z
URL:https://business.macombareachamber.com/events/details/suicide-prevention-webinar-resources-for-workplaces-15696
END:VEVENT

END:VCALENDAR
