BEGIN:VCALENDAR
VERSION:2.0
PRODID:-//ChamberMaster//Event Calendar 2.0//EN
METHOD:PUBLISH
X-PUBLISHED-TTL:P3D
REFRESH-INTERVAL:P3D
CALSCALE:GREGORIAN
BEGIN:VEVENT
DTSTART:20241018T133000Z
DTEND:20241018T210000Z
X-MICROSOFT-CDO-ALLDAYEVENT:FALSE
SUMMARY:Student Affairs 101 Conference
DESCRIPTION:Student Affairs 101 is a one-day conference hosted by student affairs programs across Illinois\, including Western Illinois University\, Illinois State University\, Eastern Illinois University\, Northern Illinois University\, and Southern Illinois University Edwardsville. \n\n\n\nIn 2024\, the conference will be held at Western Illinois University on October 18. This year's theme\, "Bloom in the Field of Student Affairs\," encourages prospective students to discover their future\, current students to enhance their skills and further their development\, and professionals to cultivate the next generation of leaders and shape the future of student affairs.\n\n\n\nThe conference will feature a keynote presentation from Dr. MarQuita Barker (Vice President for Student Development at Knox College)\, a variety of program sessions\, networking opportunities with students and professionals\, and information sessions for prospective students.    Stay tuned for more information!\n\n\n\nStudent Affairs 101 provides an introduction and exploration of the values\, practices\, and experiences of student affairs professionals. It also offers valuable insights into the graduate school process for prospective students. The conference welcomes undergraduate students\, graduate students\, professionals\, and faculty who are passionate about student affairs and enhancing the college student experience. It includes professional development programming\, networking\, a keynote presentation\, and opportunities to learn about best practices and current trends in the field.
X-ALT-DESC;FMTTYPE=text/html:<div class="xdj266r x11i5rnm xat24cr x1mh8g0r x1vvkbs x126k92a" style="margin: 0px\; overflow-wrap: break-word\; white-space-collapse: preserve\; font-family: &quot\;Segoe UI Historic&quot\;\, &quot\;Segoe UI&quot\;\, Helvetica\, Arial\, sans-serif\; color: rgb(5\, 5\, 5)\; font-size: 15px\; background-color: rgb(255\, 255\, 255)\;">\n<div dir="auto" style="font-family: inherit\;">Student Affairs 101 is a one-day conference hosted by student affairs programs across Illinois\, including Western Illinois University\, Illinois State University\, Eastern Illinois University\, Northern Illinois University\, and Southern Illinois University Edwardsville.&nbsp\;<br />\n<br />\nIn 2024\, the conference will be held at Western Illinois University on October 18. <span style="color: rgb(5\, 5\, 5)\; font-family: &quot\;Segoe UI Historic&quot\;\, &quot\;Segoe UI&quot\;\, Helvetica\, Arial\, sans-serif\; font-size: 15px\; background-color: rgb(255\, 255\, 255)\;">This year&rsquo\;s theme\, &ldquo\;Bloom in the Field of Student Affairs\,&rdquo\; encourages prospective students to discover their future\, current students to enhance their skills and further their development\, and professionals to cultivate the next generation of leaders and shape the future of student affairs.</span><br />\n<br />\nThe conference will feature a keynote presentation from Dr. MarQuita Barker (Vice President for Student Development at Knox College)\, a variety of program sessions\, networking opportunities with students and professionals\, and information sessions for prospective students. &#129504\;&#128210\; Stay tuned for more information!<br />\n<br />\nStudent Affairs 101 provides an introduction and exploration of the values\, practices\, and experiences of student affairs professionals. It also offers valuable insights into the graduate school process for prospective students. The conference welcomes undergraduate students\, graduate students\, professionals\, and faculty who are passionate about student affairs and enhancing the college student experience. It includes professional development programming\, networking\, a keynote presentation\, and opportunities to learn about best practices and current trends in the field.&nbsp\;</div>\n</div>\n
LOCATION:Western Illinois University Macomb Campus - University Union
UID:e.2125.15707
SEQUENCE:3
DTSTAMP:20260422T054359Z
URL:https://business.macombareachamber.com/events/details/student-affairs-101-conference-15707
END:VEVENT

END:VCALENDAR
