BEGIN:VCALENDAR
VERSION:2.0
PRODID:-//ChamberMaster//Event Calendar 2.0//EN
METHOD:PUBLISH
X-PUBLISHED-TTL:P3D
REFRESH-INTERVAL:P3D
CALSCALE:GREGORIAN
BEGIN:VEVENT
DTSTART:20241021T210000Z
DTEND:20241021T230000Z
X-MICROSOFT-CDO-ALLDAYEVENT:FALSE
SUMMARY:Starbies Fall Paint & Sip
DESCRIPTION:*No physical tickets will be printed\, please save your email confirmation and choose pickup at check-out*\n\n*Registration is highly recommended\, walk-ins welcome as supplies are available*\n\nTickets are $5 per person! This is an off-site event at Macomb's Starbucks location- 1736 E. Jackson St. Macomb\, IL 61455\n\nWelcome to Starbies Paint & Sip with The Crafty Coop\, where creativity meets coffee! Sure to a memorable experience filled with laughter\, creativity\, and delicious drinkies   \n\nUnleash your inner artist\, and embrace the season while sipping on Signature Fall Samples with us!\n\n     \n\nMug options will be first come\, first served!\n\nCauldron mugs\, pumpkin mugs or plain mugs will be available to choose from   \n\nPrices vary on mugs ($14-$22+)and will be paid to The Crafty Coop the day of the event (cash or card accepted).\n\nAll supplies and instructions will be provided for your experience\, once painted\, all mugs will be fired and ready for pickup in about 7-10 business days    \n\nMugs are Hand-wash only but can be microwaved (obviously hot when you do so\, so use caution).\n\nPick up at The Crafty Coop\, 206 N. Lafayette St. Macomb\, IL\n\nOpen Studio Hours:\n\nWed-Fri 4:30-7:30 PM\n\nSaturday 10 AM-6 PM\n\nSunday 12-5 PM\n\n*No refunds if you are not able to attend*\n\nContact the studio with any questions-309-331-0965 during business hours or message the Facebook page
X-ALT-DESC;FMTTYPE=text/html:*No physical tickets will be printed\, please save your email confirmation and choose pickup at check-out*<br />\n*Registration is highly recommended\, walk-ins welcome as supplies are available*<br />\nTickets are $5 per person! This is an off-site event at Macomb&#39\;s Starbucks location- 1736 E. Jackson St. Macomb\, IL 61455<br />\nWelcome to Starbies Paint &amp\; Sip with The Crafty Coop\, where creativity meets coffee! Sure to a memorable experience filled with laughter\, creativity\, and delicious drinkies &#9749\;&#65039\;<br />\nUnleash your inner artist\, and embrace the season while sipping on Signature Fall Samples with us!<br />\n&#127875\;&#127810\;&#127809\;&#127811\;&#127875\;<br />\nMug options will be first come\, first served!<br />\nCauldron mugs\, pumpkin mugs or plain mugs will be available to choose from &#127912\;&#128396\;<br />\nPrices vary on mugs ($14-$22+)and will be paid to The Crafty Coop the day of the event (cash or card accepted).<br />\nAll supplies and instructions will be provided for your experience\, once painted\, all mugs will be fired and ready for pickup in about 7-10 business days &#128293\;&#128293\;&#128293\;<br />\nMugs are Hand-wash only but can be microwaved (obviously hot when you do so\, so use caution).<br />\nPick up at The Crafty Coop\, 206 N. Lafayette St. Macomb\, IL<br />\nOpen Studio Hours:<br />\nWed-Fri 4:30-7:30 PM<br />\nSaturday 10 AM-6 PM<br />\nSunday 12-5 PM<br />\n*No refunds if you are not able to attend*<br />\nContact the studio with any questions-309-331-0965 during business hours or message the Facebook page &#128516\;
LOCATION:Starbucks 1736 E. Jackson St. Macomb\, IL
UID:e.2125.16056
SEQUENCE:3
DTSTAMP:20260422T054231Z
URL:https://business.macombareachamber.com/events/details/starbies-fall-paint-sip-16056
END:VEVENT

END:VCALENDAR
