BEGIN:VCALENDAR
VERSION:2.0
PRODID:-//ChamberMaster//Event Calendar 2.0//EN
METHOD:PUBLISH
X-PUBLISHED-TTL:P3D
REFRESH-INTERVAL:P3D
CALSCALE:GREGORIAN
BEGIN:VEVENT
DTSTART:20230326T223000Z
DTEND:20230327T013000Z
X-MICROSOFT-CDO-ALLDAYEVENT:FALSE
SUMMARY:Stand Up Bunny Craft
DESCRIPTION:Come paint this large 2' tall bunny (made of lightweight wood) with us! Choose how you paint yours\; solid color\, rustic\, whatever you'd like. Bunny comes with raffia to tie around the neck or you can choose to add on a bow (varies). Put him on your covered porch\, by your fireplace\, front door\, in a corner you decide. Can be used all spring/summer or anytime not just Easter.\n\nCost is just $39.
X-ALT-DESC;FMTTYPE=text/html:Come paint this large 2&rsquo\; tall bunny (made of lightweight wood) with us! Choose how you paint yours\; solid color\, rustic\, whatever you&rsquo\;d like. Bunny comes with raffia to tie around the neck&hellip\;or you can choose to add on a bow (varies). Put him on your covered porch\, by your fireplace\, front door\, in a corner&hellip\;you decide. Can be used all spring/summer or anytime&hellip\;not just Easter.<br />\nCost is just $39.<br />\n
LOCATION:The Crafty Coop - 206 N. Lafayette\, Macomb
UID:e.2125.12773
SEQUENCE:3
DTSTAMP:20260421T215759Z
URL:https://business.macombareachamber.com/events/details/stand-up-bunny-craft-12773
END:VEVENT

END:VCALENDAR
