BEGIN:VCALENDAR
VERSION:2.0
PRODID:-//ChamberMaster//Event Calendar 2.0//EN
METHOD:PUBLISH
X-PUBLISHED-TTL:P3D
REFRESH-INTERVAL:P3D
CALSCALE:GREGORIAN
BEGIN:VEVENT
DTSTART;VALUE=DATE:20230422
DTEND;VALUE=DATE:20230423
TRANSP:TRANSPARENT
X-MICROSOFT-CDO-ALLDAYEVENT:TRUE
SUMMARY:St. Paul School 5K/1 Mile Run/Walk & Pancake Breakfast
DESCRIPTION:Join us to run\, walk or just to eat pancakes! All proceeds support St. Paul School.
X-ALT-DESC;FMTTYPE=text/html:Join us to run\, walk or just to eat pancakes! All proceeds support St. Paul School.&nbsp\;
LOCATION:St. Paul School Parking Lot - 322 W. Washington\, Macomb\, IL
UID:e.2125.13004
SEQUENCE:3
DTSTAMP:20260423T233303Z
URL:https://business.macombareachamber.com/events/details/st-paul-school-5k-1-mile-run-walk-pancake-breakfast-13004
END:VEVENT

END:VCALENDAR
