BEGIN:VCALENDAR
VERSION:2.0
PRODID:-//ChamberMaster//Event Calendar 2.0//EN
METHOD:PUBLISH
X-PUBLISHED-TTL:P3D
REFRESH-INTERVAL:P3D
CALSCALE:GREGORIAN
BEGIN:VEVENT
DTSTART:20231001T160000Z
DTEND:20231001T200000Z
X-MICROSOFT-CDO-ALLDAYEVENT:FALSE
SUMMARY:St. Paul Parish Picnic
DESCRIPTION:You're invited to the St. Paul Parish Picnic. Bring a dish to share\, as well as drinks\, table service\, and chairs for your family. Electricity is available at the site if needed. Outdoor games will be provided. Feel free to bring your own as well.
X-ALT-DESC;FMTTYPE=text/html:You&#39\;re invited to the St. Paul Parish Picnic. Bring a dish to share\, as well as drinks\, table service\, and chairs for your family. Electricity is available at the site if needed. Outdoor games will be provided. Feel free to bring your own as well.&nbsp\;
LOCATION:Spring Lake Park Pavillion Macomb\, Illinois
UID:e.2125.14005
SEQUENCE:3
DTSTAMP:20260422T135714Z
URL:https://business.macombareachamber.com/events/details/st-paul-parish-picnic-14005
END:VEVENT

END:VCALENDAR
