BEGIN:VCALENDAR
VERSION:2.0
PRODID:-//ChamberMaster//Event Calendar 2.0//EN
METHOD:PUBLISH
X-PUBLISHED-TTL:P3D
REFRESH-INTERVAL:P3D
CALSCALE:GREGORIAN
BEGIN:VEVENT
DTSTART:20220712T153000Z
DTEND:20220714T170000Z
X-MICROSOFT-CDO-ALLDAYEVENT:FALSE
SUMMARY:Spy Time with Despicable Me
DESCRIPTION:Explore the art of disguise\, design super spy equipment and test your spy savvy.\n\nAges 5 and up\n\n3 Day Camp\n\n$40 for Members/$45 for Non-Members\n\nYou may register in person or online at www.discoverydepot.org
X-ALT-DESC;FMTTYPE=text/html:Explore the art of disguise\, design super spy equipment and test your spy savvy.<br />\nAges 5 and up<br />\n3 Day Camp<br />\n$40 for Members/$45 for Non-Members<br />\nYou may register in person or online at www.discoverydepot.org
LOCATION:Discovery Depot Children's Museum 128 S Chambers St Galesburg\, IL\, 61401
UID:e.2125.8436
SEQUENCE:3
DTSTAMP:20260422T120025Z
URL:https://business.macombareachamber.com/events/details/spy-time-with-despicable-me-8436
END:VEVENT

END:VCALENDAR
