BEGIN:VCALENDAR
VERSION:2.0
PRODID:-//ChamberMaster//Event Calendar 2.0//EN
METHOD:PUBLISH
X-PUBLISHED-TTL:P3D
REFRESH-INTERVAL:P3D
CALSCALE:GREGORIAN
BEGIN:VEVENT
DTSTART:20250425T153000Z
DTEND:20250425T183000Z
X-MICROSOFT-CDO-ALLDAYEVENT:FALSE
SUMMARY:Spring Volunteer Opportunity
DESCRIPTION:Help us make the Lakeview Nature Area even lovelier this spring! Join on April 25 from 10:30 am-1:30 pm for a volunteer opportunity!\n\nWe'll focus on removing invasive plants in the landscaping surrounding the Nature Center and in the Nature Area\, placing mulch\, and removing unwanted trash. We hope you'll join us for this outdoor opportunity where you can make a difference\, get some volunteer hours\, and connect with nature!\n\nFee: Free!\n\n*Pre-registration is encouraged by April 24th to participate.\n\nNotes:\n\n  Please bring any gardening tools you like and gloves to protect your hands\n\n  Basic supplies will be provided.\n\n Water and restrooms will be provided.\n\n     For Ages 14+ / Ages 13 & under with adult supervision\n\n  must be able to do light to heavy manual labor
X-ALT-DESC;FMTTYPE=text/html:Help us make the Lakeview Nature Area even lovelier this spring! Join on April 25 from 10:30 am-1:30 pm for a volunteer opportunity!<br />\nWe&#39\;ll focus on removing invasive plants in the landscaping surrounding the Nature Center and in the Nature Area\, placing mulch\, and removing unwanted trash. We hope you&#39\;ll join us for this outdoor opportunity where you can make a difference\, get some volunteer hours\, and connect with nature!<br />\nFee: Free!<br />\n*Pre-registration is encouraged by April 24th to participate.<br />\nNotes:<br />\n&#127793\; Please bring any gardening tools you like and gloves to protect your hands<br />\n&#127807\; Basic supplies will be provided.<br />\n&#128167\;Water and restrooms will be provided.<br />\n&#128119\;&zwj\;&#9792\;&#65039\; For Ages 14+ / Ages 13 &amp\; under with adult supervision<br />\n&#128310\; must be able to do light to heavy manual labor&nbsp\;
LOCATION:Lakeview Nature Center 10050 N 1500th Road Macomb\, IL
UID:e.2125.18825
SEQUENCE:3
DTSTAMP:20260420T113044Z
URL:https://business.macombareachamber.com/events/details/spring-volunteer-opportunity-18825
END:VEVENT

END:VCALENDAR
