BEGIN:VCALENDAR
VERSION:2.0
PRODID:-//ChamberMaster//Event Calendar 2.0//EN
METHOD:PUBLISH
X-PUBLISHED-TTL:P3D
REFRESH-INTERVAL:P3D
CALSCALE:GREGORIAN
BEGIN:VEVENT
DTSTART:20230507T190000Z
DTEND:20230507T210000Z
X-MICROSOFT-CDO-ALLDAYEVENT:FALSE
SUMMARY:Spring Tea at the MAC - CANCELED
DESCRIPTION:We invite you to join us for a traditional British tea on Sunday\, May 7\, 2-4pm. Hosted by Julie-Anne Pickett\, this event is a delightful opportunity to enjoy time with family and friends as you savor traditional tea sandwiches\, scones\, biscuits\, and a lovely variety of teas. To enhance the experience even more\, consider dressing the part. For the ladies that might be your best hat\, your pearls\, your gloves\, and other appropriate tea attire. Gentleman might consider a waistcoat\, a fedora\, a boutonniere. Creative and casual elegance is the key.\n\nTickets for this charming fundraiser are $30/person and can be purchased with cash or check at the MAC during gallery hours (12n-3pm\, Tuesday & Wednesday\; 4-7pm\, Friday\; and 11am-3pm\, Saturday) or mailed to Spring Tea at the MAC\, PO Box 692\, Macomb\, IL\, 61455. Reservations may be made by phone (309-836-2782) or email (info@macombartscenter.org)\, but tickets will need to be paid for by Monday\, May 1 or reservation will be cancelled. Space is limited. Reservation form below will be available at the MAC. For phone and email reservations\, please include the info from the form.\n\n\n\nAfternoon Tea\, 2-4pm\, Sunday\, May 7\, 2023\, Reservations\n\nYour name____________________________________________________\n\nEmail_________________________________________________________\n\nPhone________________________________________________________\n\nNumber of tickets @$30 each____________________________________\n\nTotal: Paid________________________ Due________________________________\n\nNames of individuals you would like to have seated at your table (tables of 6). If you are paying for any of these\, please mark "paid" next to their name:\n\n1____________________________________________________________\n\n2____________________________________________________________\n\n3____________________________________________________________\n\n4____________________________________________________________\n\n5____________________________________________________________
X-ALT-DESC;FMTTYPE=text/html:We invite you to join us for a traditional British tea on Sunday\, May 7\, 2-4pm. Hosted by Julie-Anne Pickett\, this event is a delightful opportunity to enjoy time with family and friends as you savor traditional tea sandwiches\, scones\, biscuits\, and a lovely variety of teas. To enhance the experience even more\, consider dressing the part. For the ladies that might be your best hat\, your pearls\, your gloves\, and other appropriate tea attire. Gentleman might consider a waistcoat\, a fedora\, a boutonniere. Creative and casual elegance is the key.<br />\nTickets for this charming fundraiser are $30/person and can be purchased with cash or check at the MAC during gallery hours (12n-3pm\, Tuesday &amp\; Wednesday\; 4-7pm\, Friday\; and 11am-3pm\, Saturday) or mailed to Spring Tea at the MAC\, PO Box 692\, Macomb\, IL\, 61455. Reservations may be made by phone (309-836-2782) or email (info@macombartscenter.org)\, but tickets will need to be paid for by Monday\, May 1 or reservation will be cancelled. Space is limited. Reservation form below will be available at the MAC. For phone and email reservations\, please include the info from the form.<br />\n<br />\nAfternoon Tea\, 2-4pm\, Sunday\, May 7\, 2023\, Reservations<br />\nYour name____________________________________________________<br />\nEmail_________________________________________________________<br />\nPhone________________________________________________________<br />\nNumber of tickets @$30 each____________________________________<br />\nTotal: Paid________________________ Due________________________________<br />\nNames of individuals you would like to have seated at your table (tables of 6). If you are paying for any of these\, please mark &ldquo\;paid&rdquo\; next to their name:<br />\n1____________________________________________________________<br />\n2____________________________________________________________<br />\n3____________________________________________________________<br />\n4____________________________________________________________<br />\n5____________________________________________________________
LOCATION:Macomb Arts Center - 25 E. Side Square
UID:e.2125.13420
SEQUENCE:3
DTSTAMP:20260423T232625Z
URL:https://business.macombareachamber.com/events/details/spring-tea-at-the-mac-canceled-13420
END:VEVENT

END:VCALENDAR
