BEGIN:VCALENDAR
VERSION:2.0
PRODID:-//ChamberMaster//Event Calendar 2.0//EN
METHOD:PUBLISH
X-PUBLISHED-TTL:P3D
REFRESH-INTERVAL:P3D
CALSCALE:GREGORIAN
BEGIN:VEVENT
DTSTART:20220915T180000Z
DTEND:20220915T184500Z
X-MICROSOFT-CDO-ALLDAYEVENT:FALSE
SUMMARY:Spanish Class
DESCRIPTION:Full immersion into the culture and language through reading\, storytelling\, music\, games\, activities and personal interviews.12 Week Session. Ages 6 and up. Limited spots available. Registration required. Sibling discount offered.
X-ALT-DESC;FMTTYPE=text/html:<p>Full immersion into the&nbsp\;culture and language through reading\,&nbsp\;storytelling\, music\,&nbsp\;games\, activities and&nbsp\;personal interviews.12 Week Session. Ages 6 and up. Limited spots available. Registration required. Sibling discount offered.</p>\n
LOCATION:Discovery Depot Children's Museum 128 S Chambers St Galesburg\, IL\, 61401
UID:e.2125.9995
SEQUENCE:3
DTSTAMP:20260423T091126Z
URL:https://business.macombareachamber.com/events/details/spanish-class-09-15-2022-9995
END:VEVENT

END:VCALENDAR
