BEGIN:VCALENDAR
VERSION:2.0
PRODID:-//ChamberMaster//Event Calendar 2.0//EN
METHOD:PUBLISH
X-PUBLISHED-TTL:P3D
REFRESH-INTERVAL:P3D
CALSCALE:GREGORIAN
BEGIN:VEVENT
DTSTART:20230129T233000Z
DTEND:20230130T023000Z
X-MICROSOFT-CDO-ALLDAYEVENT:FALSE
SUMMARY:Snowman Leaners at The Crafty Coop
DESCRIPTION:Come paint a 4' solid wood porch leaner with us! We'll walk you through the steps of creating your very own snowman to use all winter long every year! You can add wording or not\, change his scarf colors how you like. Open to all ages that can handle a paintbrush. Seating is limited to the first 14 registrants. Invite a friend and join us. Cost is $45. Add on a large snowman iced cookie from Sweet Treats by Jessica for $5 if you'd like. Feel free to bring your own lidded drink. Tickets: www.canvas-connections.com/snowmanleaner
X-ALT-DESC;FMTTYPE=text/html:Come paint a 4&rsquo\; solid wood porch leaner with us! We&rsquo\;ll walk you through the steps of creating your very own snowman to use all winter long every year! You can add wording&hellip\;or not\, change his scarf colors how you like. Open to all ages that can handle a paintbrush. Seating is limited to the first 14 registrants. Invite a friend and join us. Cost is $45. Add on a large snowman iced cookie from Sweet Treats by Jessica for $5 if you&#39\;d like. Feel free to bring your own lidded drink. Tickets:&nbsp\;www.canvas-connections.com/snowmanleaner
LOCATION:The Crafty Coop - 206 N. Lafayette\, Macomb
UID:e.2125.12355
SEQUENCE:3
DTSTAMP:20260423T235602Z
URL:https://business.macombareachamber.com/events/details/snowman-leaners-at-the-crafty-coop-12355
END:VEVENT

END:VCALENDAR
