BEGIN:VCALENDAR
VERSION:2.0
PRODID:-//ChamberMaster//Event Calendar 2.0//EN
METHOD:PUBLISH
X-PUBLISHED-TTL:P3D
REFRESH-INTERVAL:P3D
CALSCALE:GREGORIAN
BEGIN:VEVENT
DTSTART;VALUE=DATE:20250426
DTEND;VALUE=DATE:20250427
TRANSP:TRANSPARENT
X-MICROSOFT-CDO-ALLDAYEVENT:TRUE
SUMMARY:Smokey Joes and the 3 Dollar Pistols
DESCRIPTION:Smokey and the boys take the honkytonk train to Illinois!! Come hear decades of country hits performed by one of the best independent country bands in the nation!
X-ALT-DESC;FMTTYPE=text/html:Smokey and the boys take the honkytonk train to Illinois!! Come hear decades of country hits performed by one of the best independent country bands in the nation!
LOCATION:Ice House Macomb 301 N Campbell St. Macomb\, IL
UID:e.2125.18743
SEQUENCE:3
DTSTAMP:20260420T113910Z
URL:https://business.macombareachamber.com/events/details/smokey-joes-and-the-3-dollar-pistols-18743
END:VEVENT

END:VCALENDAR
