BEGIN:VCALENDAR
VERSION:2.0
PRODID:-//ChamberMaster//Event Calendar 2.0//EN
METHOD:PUBLISH
X-PUBLISHED-TTL:P3D
REFRESH-INTERVAL:P3D
CALSCALE:GREGORIAN
BEGIN:VEVENT
DTSTART;VALUE=DATE:20240213
DTEND;VALUE=DATE:20240214
TRANSP:TRANSPARENT
X-MICROSOFT-CDO-ALLDAYEVENT:TRUE
SUMMARY:Small Business Competition
DESCRIPTION:The City of Macomb Small Business Competition offering three different prize packages\, entrepreneur workshops\, opportunities to create a business plan\, financial advising\, and a business sales pitch. \n\n\n\nInformational meeting - February 6 \n\n6 pm\n\nSpoon River College Outreach Center \n\n2500 E. Jackson Street\n\n\n\nEntrepreneur Workshops \n\nFebruary 13\, 20\, 27\n\n6-8 pm\n\nSpoon River College Outreach Center\n\n\n\nBusiness Pitch\n\nMarch 21\n\n6 pm\n\nPark Place\n\n127 E. Carroll St. \n\nFebruary 13m
X-ALT-DESC;FMTTYPE=text/html:The City of Macomb Small Business Competition offering three different prize packages\, entrepreneur workshops\, opportunities to create a business plan\, financial advising\, and a business sales pitch.&nbsp\;<br />\n<br />\nInformational meeting - February 6&nbsp\;<br />\n6 pm<br />\nSpoon River College Outreach Center&nbsp\;<br />\n2500 E. Jackson Street<br />\n<br />\nEntrepreneur Workshops&nbsp\;<br />\nFebruary 13\, 20\, 27<br />\n6-8 pm<br />\nSpoon River College Outreach Center<br />\n<br />\nBusiness Pitch<br />\nMarch 21<br />\n6 pm<br />\nPark Place<br />\n127 E. Carroll St.&nbsp\;<br />\nFebruary 13m&nbsp\;
LOCATION:
UID:e.2125.14439
SEQUENCE:3
DTSTAMP:20260423T074055Z
URL:https://business.macombareachamber.com/events/details/small-business-competition-14439
END:VEVENT

END:VCALENDAR
