BEGIN:VCALENDAR
VERSION:2.0
PRODID:-//ChamberMaster//Event Calendar 2.0//EN
METHOD:PUBLISH
X-PUBLISHED-TTL:P3D
REFRESH-INTERVAL:P3D
CALSCALE:GREGORIAN
BEGIN:VEVENT
DTSTART:20240415T230000Z
DTEND:20240416T010000Z
X-MICROSOFT-CDO-ALLDAYEVENT:FALSE
SUMMARY:Sip & Slice
DESCRIPTION:Grab your friends and head on out for a fun evening of sipping & board building!\n\nLearn how to build your own charcuterie board with Callie from Spreadz while drinking wine at The Wine Sellers. Each $50.00 ticket ($50.00 + $5.20 online fee) includes all the food and accompaniments to make a delicious charcuteries board as well as a glass of one of TWS's delicious house wines. Tickets may be purchased at TWS or online (+$5.20 online fee) by following the link.\n\nRegistration for the event closes on April 8. Space is limited\, so get your tickets today.
X-ALT-DESC;FMTTYPE=text/html:Grab your friends and head on out for a fun evening of sipping &amp\; board building!<br />\nLearn how to build your own charcuterie board with Callie from Spreadz while drinking wine at The Wine Sellers. Each $50.00 ticket ($50.00 + $5.20 online fee) includes all the food and accompaniments to make a delicious charcuteries board as well as a glass of one of TWS&#39\;s delicious house wines. Tickets may be purchased at TWS or online (+$5.20 online fee) by following the link.<br />\nRegistration for the event closes on April 8. Space is limited\, so get your tickets today.&nbsp\;
LOCATION:The Wine Sellers - 121 S Randolph St\, Macomb\, IL
UID:e.2125.14788
SEQUENCE:3
DTSTAMP:20260423T101804Z
URL:https://business.macombareachamber.com/events/details/sip-slice-14788
END:VEVENT

END:VCALENDAR
