BEGIN:VCALENDAR
VERSION:2.0
PRODID:-//ChamberMaster//Event Calendar 2.0//EN
METHOD:PUBLISH
X-PUBLISHED-TTL:P3D
REFRESH-INTERVAL:P3D
CALSCALE:GREGORIAN
BEGIN:VEVENT
DTSTART:20250612T223000Z
DTEND:20250613T003000Z
X-MICROSOFT-CDO-ALLDAYEVENT:FALSE
SUMMARY:Sip & Paint with Taylor
DESCRIPTION:Experience a guided canvas painting lesson with friends. For $50\, participants will get all the materials to create a masterpiece\, and a glass of wine to enjoy while painting. Tickets may be purchased at TWS or online (+ $5.20 fee).
X-ALT-DESC;FMTTYPE=text/html:Experience a guided canvas painting lesson with friends. For $50\, participants will get all the materials to create a masterpiece\, and a glass of wine to enjoy while painting. Tickets may be purchased at TWS or online (+ $5.20 fee).
LOCATION:The Wine Sellers - 121 S Randolph St\, Macomb\, IL 61455
UID:e.2125.19255
SEQUENCE:3
DTSTAMP:20260420T082915Z
URL:https://business.macombareachamber.com/events/details/sip-paint-with-taylor-19255
END:VEVENT

END:VCALENDAR
