BEGIN:VCALENDAR
VERSION:2.0
PRODID:-//ChamberMaster//Event Calendar 2.0//EN
METHOD:PUBLISH
X-PUBLISHED-TTL:P3D
REFRESH-INTERVAL:P3D
CALSCALE:GREGORIAN
BEGIN:VEVENT
DTSTART:20241023T223000Z
DTEND:20241024T003000Z
X-MICROSOFT-CDO-ALLDAYEVENT:FALSE
SUMMARY:Sip & Paint
DESCRIPTION:Join us as we host The Crafty Coop for a wine glass\, gnome or fall themed item painting party. Tickets on sale through 10/16.\n\nTickets are $13 in advance (plus processing fee\, if paying online). This covers your studio fee along with a glass of wine.\n\nThat evening\, you will pay via Square for your item that you choose to paint. Items will range from $10-$20.\n\nTickets can be purchased online with a processing fee\, or at The Wine Sellers.
X-ALT-DESC;FMTTYPE=text/html:Join us as we host The Crafty Coop for a wine glass\, gnome or fall themed item painting party. Tickets on sale through 10/16.<br />\nTickets are $13 in advance (plus processing fee\, if paying online). This covers your studio fee along with a glass of wine.<br />\nThat evening\, you will pay via Square for your item that you choose to paint. Items will range from $10-$20.<br />\nTickets can be purchased online with a processing fee\, or at The Wine Sellers.&nbsp\;
LOCATION:The Wine Sellers 121 S. Randolph St. Macomb\, IL
UID:e.2125.16061
SEQUENCE:3
DTSTAMP:20260422T054232Z
URL:https://business.macombareachamber.com/events/details/sip-paint-16061
END:VEVENT

END:VCALENDAR
