BEGIN:VCALENDAR
VERSION:2.0
PRODID:-//ChamberMaster//Event Calendar 2.0//EN
METHOD:PUBLISH
X-PUBLISHED-TTL:P3D
REFRESH-INTERVAL:P3D
CALSCALE:GREGORIAN
BEGIN:VEVENT
DTSTART:20220921T213000Z
DTEND:20220921T230000Z
X-MICROSOFT-CDO-ALLDAYEVENT:FALSE
SUMMARY:September 2022 Business After Hours
DESCRIPTION:A free networking event for Chamber members and potential new members as well.
X-ALT-DESC;FMTTYPE=text/html:A free networking event for Chamber members and potential new members as well.&nbsp\;
LOCATION:Macomb Park District - Patton Park 889 South Ward Street\, Macomb
UID:e.2125.7857
SEQUENCE:3
DTSTAMP:20260423T085305Z
URL:https://business.macombareachamber.com/events/details/september-2022-business-after-hours-7857
END:VEVENT

END:VCALENDAR
