BEGIN:VCALENDAR
VERSION:2.0
PRODID:-//ChamberMaster//Event Calendar 2.0//EN
METHOD:PUBLISH
X-PUBLISHED-TTL:P3D
REFRESH-INTERVAL:P3D
CALSCALE:GREGORIAN
BEGIN:VEVENT
DTSTART:20230722T153000Z
DTEND:20230722T173000Z
X-MICROSOFT-CDO-ALLDAYEVENT:FALSE
SUMMARY:Science Saturday! Balloon Racers!
DESCRIPTION:Join us for Science Saturday! See how creative you can be to design your own balloon racer! Free with admission
X-ALT-DESC;FMTTYPE=text/html:Join us for Science Saturday! See how creative you can be to design your own balloon racer! Free with admission
LOCATION:Discovery Depot Children's Museum 128 S. Chambers St Galesburg IL\, 61401
UID:e.2125.13596
SEQUENCE:3
DTSTAMP:20260423T174754Z
URL:https://business.macombareachamber.com/events/details/science-saturday-balloon-racers-13596
END:VEVENT

END:VCALENDAR
