BEGIN:VCALENDAR
VERSION:2.0
PRODID:-//ChamberMaster//Event Calendar 2.0//EN
METHOD:PUBLISH
X-PUBLISHED-TTL:P3D
REFRESH-INTERVAL:P3D
CALSCALE:GREGORIAN
BEGIN:VEVENT
DTSTART:20230420T220000Z
DTEND:20230422T010000Z
X-MICROSOFT-CDO-ALLDAYEVENT:FALSE
SUMMARY:School of Rock Auditions
DESCRIPTION:We are excited to announce that SummerStage is back and will be presenting SCHOOL OF ROCK on July 14 and 15!!!\n\n\n\nAuditions will be held April 20 and 21. Register at westernpresents.com/sor.
X-ALT-DESC;FMTTYPE=text/html:We are excited to announce that SummerStage is back and will be presenting SCHOOL OF ROCK on July 14 and 15!!!<br />\n<br />\nAuditions will be held April 20 and 21. Register at westernpresents.com/sor.
LOCATION:
UID:e.2125.13072
SEQUENCE:3
DTSTAMP:20260423T221735Z
URL:https://business.macombareachamber.com/events/details/school-of-rock-auditions-13072
END:VEVENT

END:VCALENDAR
