BEGIN:VCALENDAR
VERSION:2.0
PRODID:-//ChamberMaster//Event Calendar 2.0//EN
METHOD:PUBLISH
X-PUBLISHED-TTL:P3D
REFRESH-INTERVAL:P3D
CALSCALE:GREGORIAN
BEGIN:VEVENT
DTSTART:20220715T210000Z
DTEND:20220716T023000Z
X-MICROSOFT-CDO-ALLDAYEVENT:FALSE
SUMMARY:Sandra's Taco Wagon at the Elks
DESCRIPTION:We'll have Sandra's Taco wagon with us from 4-9p. No LIVE music. But come enjoy some great food and drinks!!!
X-ALT-DESC;FMTTYPE=text/html:We&rsquo\;ll have Sandra&rsquo\;s Taco wagon with us from 4-9p. No LIVE music. But come enjoy some great food and drinks!!!
LOCATION:Macomb Elks Lodge 1009 401 Deer Rd. Macomb\, IL 61455
UID:e.2125.9923
SEQUENCE:3
DTSTAMP:20260422T120312Z
URL:https://business.macombareachamber.com/events/details/sandra-s-taco-wagon-at-the-elks-9923
END:VEVENT

END:VCALENDAR
