BEGIN:VCALENDAR
VERSION:2.0
PRODID:-//ChamberMaster//Event Calendar 2.0//EN
METHOD:PUBLISH
X-PUBLISHED-TTL:P3D
REFRESH-INTERVAL:P3D
CALSCALE:GREGORIAN
BEGIN:VEVENT
DTSTART;VALUE=DATE:20241101
DTEND;VALUE=DATE:20241102
TRANSP:TRANSPARENT
X-MICROSOFT-CDO-ALLDAYEVENT:TRUE
SUMMARY:Sam Parker: 'Going Retro' Reception
DESCRIPTION:Join us to at the Reception for Sam Parker: 'Going Retro'.
X-ALT-DESC;FMTTYPE=text/html:<span style="color: rgb(5\, 5\, 5)\; font-family: &quot\;Segoe UI Historic&quot\;\, &quot\;Segoe UI&quot\;\, Helvetica\, Arial\, sans-serif\; font-size: 15px\; background-color: rgb(255\, 255\, 255)\;">Join us to at the Reception for Sam Parker: &lsquo\;Going Retro&rsquo\;.</span>
LOCATION:Macomb Arts Center 25 E. Side Square Macomb\, IL
UID:e.2125.16058
SEQUENCE:3
DTSTAMP:20260424T040004Z
URL:https://business.macombareachamber.com/events/details/sam-parker-going-retro-reception-16058
END:VEVENT

END:VCALENDAR
