BEGIN:VCALENDAR
VERSION:2.0
PRODID:-//ChamberMaster//Event Calendar 2.0//EN
METHOD:PUBLISH
X-PUBLISHED-TTL:P3D
REFRESH-INTERVAL:P3D
CALSCALE:GREGORIAN
BEGIN:VEVENT
DTSTART:20230417T180000Z
DTEND:20230417T193000Z
X-MICROSOFT-CDO-ALLDAYEVENT:FALSE
SUMMARY:Safety in the Field
DESCRIPTION:Safety in the Field with Spero Family Services. TAOEP\, RSSP Staff\, Case Managers\, Family Support Specialists\, and teachers. Learn to incorporate situational awareness into your work with the community.
X-ALT-DESC;FMTTYPE=text/html:Safety in the Field with Spero Family Services. TAOEP\, RSSP Staff\, Case Managers\, Family Support Specialists\, and teachers. Learn to incorporate situational awareness into your work with the community.&nbsp\;
LOCATION:Online via Zoom
UID:e.2125.13010
SEQUENCE:3
DTSTAMP:20260423T221633Z
URL:https://business.macombareachamber.com/events/details/safety-in-the-field-13010
END:VEVENT

END:VCALENDAR
