BEGIN:VCALENDAR
VERSION:2.0
PRODID:-//ChamberMaster//Event Calendar 2.0//EN
METHOD:PUBLISH
X-PUBLISHED-TTL:P3D
REFRESH-INTERVAL:P3D
CALSCALE:GREGORIAN
BEGIN:VEVENT
DTSTART:20230504T210000Z
DTEND:20230504T220000Z
X-MICROSOFT-CDO-ALLDAYEVENT:FALSE
SUMMARY:Saber Training Academy
DESCRIPTION:We are hosting a FREE\, Saber Training Academy right here in Macomb! Participants who register will learn basic swordplay techniques and receive a certificate of completion to proudly display that they know how to wield a saber! Feel free to dress up as your favorite galactic character and bring your own saber. We will have sabers to borrow if needed! *while supplies last.\n\nWhen: May 4 from 4-5 PM\n\nWhere: Washington St. Gym (323 W Washington St\, Macomb\, IL 61455)\n\nWho: Ages 9+\n\nPre-registration is required for this program\; register by May 3 at 12pm to secure your spot in the academy and learn how to wield a saber! Register now at: tinyurl.com/mpdregister
X-ALT-DESC;FMTTYPE=text/html:<div class="kvgmc6g5 cxmmr5t8 oygrvhab hcukyx3x c1et5uql" style="overflow-wrap: break-word\; margin: 0px\; font-family: &quot\;Segoe UI Historic&quot\;\, &quot\;Segoe UI&quot\;\, Helvetica\, Arial\, sans-serif\; color: rgb(5\, 5\, 5)\; font-size: 15px\; background-color: rgb(255\, 255\, 255)\;">We are hosting a FREE\, Saber Training Academy right here in Macomb! Participants who register will learn basic swordplay techniques and receive a certificate of completion to proudly display that they know how to wield a saber! Feel free to dress up as your favorite galactic character and bring your own saber. We will have sabers to borrow if needed! *while supplies last.<br />\nWhen: May 4 from 4-5 PM<br />\nWhere: Washington St. Gym (323 W Washington St\, Macomb\, IL 61455)<br />\nWho: Ages 9+<br />\nPre-registration is required for this program\; register by May 3 at 12pm to secure your spot in the academy and learn how to wield a saber! Register now at: tinyurl.com/mpdregister</div>\n
LOCATION:Washington Street Gym - 323 W. Washington Street\, Macomb
UID:e.2125.13078
SEQUENCE:3
DTSTAMP:20260423T204506Z
URL:https://business.macombareachamber.com/events/details/saber-training-academy-13078
END:VEVENT

END:VCALENDAR
