BEGIN:VCALENDAR
VERSION:2.0
PRODID:-//ChamberMaster//Event Calendar 2.0//EN
METHOD:PUBLISH
X-PUBLISHED-TTL:P3D
REFRESH-INTERVAL:P3D
CALSCALE:GREGORIAN
BEGIN:VEVENT
DTSTART:20230410T060000Z
DTEND:20230410T200000Z
X-MICROSOFT-CDO-ALLDAYEVENT:FALSE
SUMMARY:Rules of the Road Review Course
DESCRIPTION:The Rules of the Road Review Course is designed to give drivers - especially senior citizens and persons with disabilities - the knowledge and confidence needed to renew or obtain a driver's license.
X-ALT-DESC;FMTTYPE=text/html:&nbsp\;The Rules of the Road Review Course is designed to give drivers - especially senior citizens and persons with disabilities - the knowledge and confidence needed to renew or obtain a driver&#39\;s license.&nbsp\;
LOCATION:YMCA Senior Center - 400 E. Calhoun Street - Macomb\, Illinois
UID:e.2125.12695
SEQUENCE:3
DTSTAMP:20260423T222346Z
URL:https://business.macombareachamber.com/events/details/rules-of-the-road-review-course-12695
END:VEVENT

END:VCALENDAR
