BEGIN:VCALENDAR
VERSION:2.0
PRODID:-//ChamberMaster//Event Calendar 2.0//EN
METHOD:PUBLISH
X-PUBLISHED-TTL:P3D
REFRESH-INTERVAL:P3D
CALSCALE:GREGORIAN
BEGIN:VEVENT
DTSTART:20230504T200000Z
DTEND:20230504T230000Z
X-MICROSOFT-CDO-ALLDAYEVENT:FALSE
SUMMARY:ROE 26 Family Resource Center Open House
DESCRIPTION:Stop by and take a tour of our new one-stop shop for the community to access parenting support\, education\, and resource referrals that impact family well-being. Light refreshments served.
X-ALT-DESC;FMTTYPE=text/html:Stop by and take a tour of our new one-stop shop for the community to access parenting support\, education\, and resource referrals that impact family well-being. Light refreshments served.&nbsp\;
LOCATION:Gamage Plaza - 339 South Johnson Street\, Macomb
UID:e.2125.13392
SEQUENCE:3
DTSTAMP:20260423T233210Z
URL:https://business.macombareachamber.com/events/details/roe-26-family-resource-center-open-house-13392
END:VEVENT

END:VCALENDAR
